BEGIN:VCALENDAR
VERSION:2.0
PRODID:-//ChamberMaster//Event Calendar 2.0//EN
METHOD:PUBLISH
X-PUBLISHED-TTL:P3D
REFRESH-INTERVAL:P3D
CALSCALE:GREGORIAN
BEGIN:VEVENT
DTSTART:20160816T160000Z
DTEND:20160816T190000Z
X-MICROSOFT-CDO-ALLDAYEVENT:FALSE
SUMMARY:Law Enforcement Appreciation Barbeque
DESCRIPTION:Come join us in a time of appreciation for our police officers and county sheriffs for all that they do. Show up in a uniform or show your badge for a free meal on us! Families are welcome too!
X-ALT-DESC;FMTTYPE=text/html:Come join us in a time of appreciation for our police officers and county sheriffs for all that they do. Show up in a uniform or show your badge for a free meal on us! Families are welcome too!
LOCATION:Vertical Focus Realty Ingalls Crossing 5609 1st Avenue
UID:e.1404.8975
SEQUENCE:3
DTSTAMP:20260421T171547Z
URL:https://chambermaster.kearneycoc.org/events/details/law-enforcement-appreciation-barbeque-08-16-2016-8975
END:VEVENT

END:VCALENDAR
