BEGIN:VCALENDAR
VERSION:2.0
PRODID:-//ChamberMaster//Event Calendar 2.0//EN
METHOD:PUBLISH
X-PUBLISHED-TTL:P3D
REFRESH-INTERVAL:P3D
CALSCALE:GREGORIAN
BEGIN:VEVENT
DTSTART:20190827T160000Z
DTEND:20190827T190000Z
X-MICROSOFT-CDO-ALLDAYEVENT:FALSE
SUMMARY:Law Enforcement Appreciation BBQ
DESCRIPTION:Berskshire Hathaway Home Services invites you to a community Law Enforcement Appreciation BBQ. All first responders and their families eat free\, community may eat with a small donation.\n\nIngalls Crossing\, 5609 1st Ave\, Kearney
X-ALT-DESC;FMTTYPE=text/html:<span style="font-family:calibri\,sans-serif\;"><span style="font-size:11.0pt\;">Berskshire Hathaway Home Services invites you to a community Law Enforcement Appreciation BBQ. All first responders and their families eat free\, community may eat with a small donation.<br />\nIngalls Crossing\, 5609 1<sup>st</sup> Ave\, Kearney</span></span>
LOCATION:
UID:e.1404.16647
SEQUENCE:3
DTSTAMP:20260425T212940Z
URL:https://chambermaster.kearneycoc.org/events/details/law-enforcement-appreciation-bbq-16647
END:VEVENT

END:VCALENDAR
