BEGIN:VCALENDAR
VERSION:2.0
PRODID:-//ChamberMaster//Event Calendar 2.0//EN
METHOD:PUBLISH
X-PUBLISHED-TTL:P3D
REFRESH-INTERVAL:P3D
CALSCALE:GREGORIAN
BEGIN:VEVENT
DTSTART:20220803T000000Z
DTEND:20220803T020000Z
X-MICROSOFT-CDO-ALLDAYEVENT:FALSE
SUMMARY:Law Enforcement Appreciation Night
DESCRIPTION:
X-ALT-DESC;FMTTYPE=text/html:
LOCATION:Centennial Park
UID:e.1404.19743
SEQUENCE:3
DTSTAMP:20260421T121705Z
URL:https://chambermaster.kearneycoc.org/events/details/law-enforcement-appreciation-night-19743
END:VEVENT

END:VCALENDAR
