BEGIN:VCALENDAR
VERSION:2.0
PRODID:-//ChamberMaster//Event Calendar 2.0//EN
METHOD:PUBLISH
X-PUBLISHED-TTL:P3D
REFRESH-INTERVAL:P3D
CALSCALE:GREGORIAN
BEGIN:VEVENT
DTSTART:20160506T124500Z
DTEND:20160506T203000Z
X-MICROSOFT-CDO-ALLDAYEVENT:FALSE
SUMMARY:Leadercast: Architects of Tomorrow
DESCRIPTION:Leadercast is the world's largest one-day leadership event!\n\n\n\n"Visionary leaders have the ability to see a preferred future\, operate in the present\, and utilize the resources around them to architect a clear path to a new destination. Join us on May 6\, 2016\, to be equipped with insights and tools that will enhance your capabilities as a visionary leader."\n\n\n\nThis event will be hosted by Tripp Crosby and will feature Chris Barez-Brown\, author & creativity guru\, Steve Wozniak\, co-founder of Apple\, Kat Cole\, group president of Focus Brands\, Andy Stanley\, leadership author and communicator\, James Brown\, network broadcaster\, CBS Sports & News\, Dr. Henry Cloud\, leadership expert\, psychologist\, & best-selling author\, Nick Saban\, head football coach at the University of Alabama\, and Rorke Denver\, Navy SEAL commander & author.
X-ALT-DESC;FMTTYPE=text/html:Leadercast is the world&#39\;s largest one-day leadership event!<br />\n<br />\n&quot\;Visionary leaders have the ability to see a preferred future\, operate in the present\, and utilize the resources around them to architect a clear path to a new destination. Join us on May 6\, 2016\, to be equipped with insights and tools that will enhance your capabilities as a visionary leader.&quot\;<br />\n<br />\nThis event will be hosted by Tripp Crosby and will feature Chris Barez-Brown\, author &amp\; creativity guru\, Steve Wozniak\, co-founder of Apple\, Kat Cole\, group president of Focus Brands\, Andy Stanley\, leadership author and communicator\, James Brown\, network broadcaster\, CBS Sports &amp\; News\, Dr. Henry Cloud\, leadership expert\, psychologist\, &amp\; best-selling author\, Nick Saban\, head football coach at the University of Alabama\, and Rorke Denver\, Navy SEAL commander &amp\; author.
LOCATION:Minden Opera House 322 E. 5th St. Minden\, NE
UID:e.1404.8541
SEQUENCE:3
DTSTAMP:20260421T215759Z
URL:https://chambermaster.kearneycoc.org/events/details/leadercast-architects-of-tomorrow-05-06-2016-8541
END:VEVENT

END:VCALENDAR
