BEGIN:VCALENDAR
VERSION:2.0
PRODID:-//ChamberMaster//Event Calendar 2.0//EN
METHOD:PUBLISH
X-PUBLISHED-TTL:P3D
REFRESH-INTERVAL:P3D
CALSCALE:GREGORIAN
BEGIN:VEVENT
DTSTART:20150508T124500Z
DTEND:20150508T203000Z
X-MICROSOFT-CDO-ALLDAYEVENT:FALSE
SUMMARY:Leadercast-Be the Gift
DESCRIPTION:Brave leaders disrupt industries through innovation\, stand firm in the face of opposition\, and embrace risk. Join a community inspired by those who demonstrate bravery and leave equipped to take on your next leadership challenge. \n\n\n\nTickets are $35 and includes lunch.\n\n\n\nA part of the proceeds will benefit Be the Gift. Be the Gift knows there is no greater hero than a single parent taking care of their children. We provide practical assistance for single parents in need of home repair. Our goal is to improve the quality of life for them and their family. It is our hope that\, "Home repairs will lead to heart repairs."\n\n\n\nIf you are interested in becoming a sponsor of this event\, please contact the Minden Opera House (308) 832-0588 or click here for the sponsorship form.
X-ALT-DESC;FMTTYPE=text/html:Brave leaders disrupt industries through innovation\, stand firm in the face of opposition\, and embrace risk. Join a community inspired by those who demonstrate bravery and leave equipped to take on your next leadership challenge.&nbsp\;<br />\n<br />\nTickets are $35 and includes lunch.<br />\n<br />\nA part of the proceeds will benefit Be the Gift. Be the Gift knows there is no greater hero than a single parent taking care of their children. We provide practical assistance for single parents in need of home repair. Our goal is to improve the quality of life for them and their family. It is our hope that\, &quot\;Home repairs will lead to heart repairs.&quot\;<br />\n<br />\nIf you are interested in becoming a sponsor of this event\, please contact the Minden Opera House (308) 832-0588 or <a href="http://cloud.chambermaster.com/userfiles/UserFiles/chambers/1404/File/SponsorshipForm2.pdf">click here</a> for the sponsorship form.<br />\n<br />\n&nbsp\;
LOCATION:Minden Opera House 322 E. Fifth Street Minden\, NE
UID:e.1404.6174
SEQUENCE:3
DTSTAMP:20260422T182145Z
URL:https://chambermaster.kearneycoc.org/events/details/leadercast-be-the-gift-05-08-2015-6174
END:VEVENT

END:VCALENDAR
