BEGIN:VCALENDAR
VERSION:2.0
PRODID:-//ChamberMaster//Event Calendar 2.0//EN
METHOD:PUBLISH
X-PUBLISHED-TTL:P3D
REFRESH-INTERVAL:P3D
CALSCALE:GREGORIAN
BEGIN:VEVENT
DTSTART:20160421T223000Z
DTEND:20160422T003000Z
X-MICROSOFT-CDO-ALLDAYEVENT:FALSE
SUMMARY:Leadership Kearney 25th Anniversary Celebration
DESCRIPTION:Celebrating 25 Years of Leadership!\n\n\n\nWe cordially extend an invitation to all Leadership Kearney Alumni as well as Friends and Patrons of the Leadership Kearney Program to attend our 25th Anniversary Celebration.
X-ALT-DESC;FMTTYPE=text/html:<span style="font-family:arial\,sans-serif\;"><span style="font-size:10.0pt\;">Celebrating 25 Years of Leadership!</span></span><br />\n<br />\n<span style="font-family:arial\,sans-serif\;"><span style="font-size:10.0pt\;">We cordially extend an invitation to all Leadership Kearney Alumni as well as Friends and Patrons of the Leadership Kearney Program to attend our 25<sup>th</sup> Anniversary Celebration.</span></span>
LOCATION:Kearney Country Club 2800 19th Ave
UID:e.1404.7220
SEQUENCE:3
DTSTAMP:20260421T235639Z
URL:https://chambermaster.kearneycoc.org/events/details/leadership-kearney-25th-anniversary-celebration-04-21-2016-7220
END:VEVENT

END:VCALENDAR
