BEGIN:VCALENDAR
VERSION:2.0
PRODID:-//ChamberMaster//Event Calendar 2.0//EN
METHOD:PUBLISH
X-PUBLISHED-TTL:P3D
REFRESH-INTERVAL:P3D
CALSCALE:GREGORIAN
BEGIN:VEVENT
DTSTART:20220916T140000Z
DTEND:20220916T210000Z
X-MICROSOFT-CDO-ALLDAYEVENT:FALSE
SUMMARY:Leadership Kearney Alumni Golf Tournament
DESCRIPTION:LEADERSHIP KEARNEY ALUMNI GOLF TOURNAMENT\n\n\n\nSAVE THE DATE: FRIDAY\, SEPTEMBER 16TH\n\n\n\nWHERE: KEARNEY COUNTRY CLUB\n\nTIME: 9:00 AM REGISTRATION\n\n          10:00 AM  SHOTGUN START
X-ALT-DESC;FMTTYPE=text/html:<div class="_2Hij5" data-testid="richTextElement" id="comp-l1csr49k" style="margin: 0px 0px 16px calc((100% - 980px) * 0.5)\; padding: 0px\; border: 0px\; outline: 0px\; vertical-align: baseline\; background: transparent\; pointer-events: none\; overflow-wrap: break-word\; min-height: var(--min-height)\; min-width: var(--min-width)\; position: relative\; left: 24px\; grid-area: 2 / 1 / 3 / 2\; place-self: start\; width: 932px\; height: auto\; color: rgb(0\, 0\, 0)\; font-family: Arial\, Helvetica\, sans-serif\; font-size: 10px\;">\n<h1 class="font_0" style="margin: 0px\; padding: 0px\; border: 0px\; outline: 0px\; vertical-align: baseline\; background: transparent\; font-size: 33px\; line-height: 1.2em\; pointer-events: auto\; color: rgb(var(--color_23))\; letter-spacing: 0em\; text-align: center\;"><span style="font-size:12px\;"><span style="margin: 0px\; padding: 0px\; border: 0px\; outline: 0px\; vertical-align: baseline\; background: transparent\; font-style: inherit\; font-variant: inherit\; font-weight: inherit\; font-stretch: inherit\; line-height: inherit\;"><span class="color_19" style="margin: 0px\; padding: 0px\; border: 0px\; outline: 0px\; vertical-align: baseline\; background: transparent\; font-style: inherit\; font-variant: inherit\; font-weight: inherit\; font-stretch: inherit\; line-height: inherit\; font-family: inherit\; color: rgb(var(--color_19))\;"><span style="margin: 0px\; padding: 0px\; border: 0px\; outline: 0px\; vertical-align: baseline\; background: transparent\; font-style: inherit\; font-variant: inherit\; font-weight: inherit\; font-stretch: inherit\; line-height: inherit\; font-family: inherit\; letter-spacing: 0.05em\;"><span style="margin: 0px\; padding: 0px\; border: 0px\; outline: 0px\; vertical-align: baseline\; background: transparent\; font-style: inherit\; font-variant: inherit\; font-weight: inherit\; font-stretch: inherit\; line-height: inherit\; font-family: wfont_19bba8_af561a8cc0e84209902e76fbcc832e6c\, wf_af561a8cc0e84209902e76fbc\, orig_brandongrotesquebold\;">LEADERSHIP KEARNEY ALUMNI GOLF TOURNAMENT</span></span></span></span></span></h1>\n</div>\n\n<div class="_2Hij5" data-testid="richTextElement" id="comp-l1e77962" style="margin: 0px 0px 0px calc((100% - 980px) * 0.5)\; padding: 0px\; border: 0px\; outline: 0px\; vertical-align: baseline\; background: transparent\; pointer-events: none\; overflow-wrap: break-word\; min-height: var(--min-height)\; min-width: var(--min-width)\; position: relative\; left: 76px\; grid-area: 3 / 1 / 4 / 2\; place-self: start\; width: 828px\; height: auto\; color: rgb(0\, 0\, 0)\; font-family: Arial\, Helvetica\, sans-serif\; font-size: 10px\;">\n<p class="font_9" style="margin: 0px\; padding: 0px\; border: 0px\; outline: 0px\; vertical-align: baseline\; background: transparent\; font-size: 32px\; pointer-events: auto\; color: rgb(var(--color_19))\; letter-spacing: 0em\; text-align: center\;"><span style="font-size:12px\;"><span style="margin: 0px\; padding: 0px\; border: 0px\; outline: 0px\; vertical-align: baseline\; background: transparent\; font-style: inherit\; font-variant: inherit\; font-weight: bold\; font-stretch: inherit\; line-height: inherit\;"><span style="margin: 0px\; padding: 0px\; border: 0px\; outline: 0px\; vertical-align: baseline\; background: transparent\; font-style: inherit\; font-variant: inherit\; font-weight: inherit\; font-stretch: inherit\; line-height: inherit\;"><span class="color_35" style="margin: 0px\; padding: 0px\; border: 0px\; outline: 0px\; vertical-align: baseline\; background: transparent\; font-style: inherit\; font-variant: inherit\; font-weight: inherit\; font-stretch: inherit\; line-height: inherit\; font-family: inherit\; color: rgb(var(--color_35))\;"><span style="margin: 0px\; padding: 0px\; border: 0px\; outline: 0px\; vertical-align: baseline\; background: transparent\; font-style: italic\; font-variant: inherit\; font-weight: inherit\; font-stretch: inherit\; line-height: inherit\;"><span ms="" style="margin: 0px\; padding: 0px\; border: 0px\; outline: 0px\; vertical-align: baseline\; background: transparent\; font-style: inherit\; font-variant: inherit\; font-weight: inherit\; font-stretch: inherit\; line-height: inherit\; font-family: arial\, ">SAVE THE DATE:&nbsp\;</span></span></span></span><span style="margin: 0px\; padding: 0px\; border: 0px\; outline: 0px\; vertical-align: baseline\; background: transparent\; font-style: inherit\; font-variant: inherit\; font-weight: inherit\; font-stretch: inherit\; line-height: inherit\;"><span class="color_23" style="margin: 0px\; padding: 0px\; border: 0px\; outline: 0px\; vertical-align: baseline\; background: transparent\; font-style: inherit\; font-variant: inherit\; font-weight: inherit\; font-stretch: inherit\; line-height: inherit\; font-family: inherit\; color: rgb(var(--color_23))\;"><span style="margin: 0px\; padding: 0px\; border: 0px\; outline: 0px\; vertical-align: baseline\; background: transparent\; font-style: italic\; font-variant: inherit\; font-weight: inherit\; font-stretch: inherit\; line-height: inherit\;"><span ms="" style="margin: 0px\; padding: 0px\; border: 0px\; outline: 0px\; vertical-align: baseline\; background: transparent\; font-style: inherit\; font-variant: inherit\; font-weight: inherit\; font-stretch: inherit\; line-height: inherit\; font-family: arial\, ">FRIDAY\, SEPTEMBER 16TH</span></span></span></span></span></span></p>\n</div>\n\n<div class="_2Hij5" data-testid="richTextElement" id="comp-l1e7d840" style="margin: 0px 0px 18px calc((100% - 980px) * 0.5)\; padding: 0px\; border: 0px\; outline: 0px\; vertical-align: baseline\; background: transparent\; pointer-events: none\; overflow-wrap: break-word\; min-height: var(--min-height)\; min-width: var(--min-width)\; position: relative\; left: 96px\; grid-area: 4 / 1 / 5 / 2\; place-self: start\; width: 828px\; height: auto\; color: rgb(0\, 0\, 0)\; font-family: Arial\, Helvetica\, sans-serif\; font-size: 10px\;">\n<p class="font_9" style="margin: 0px\; padding: 0px\; border: 0px\; outline: 0px\; vertical-align: baseline\; background: transparent\; font-size: 32px\; pointer-events: auto\; color: rgb(var(--color_19))\; letter-spacing: 0em\; text-align: center\;"><span style="font-size:12px\;"><span style="margin: 0px\; padding: 0px\; border: 0px\; outline: 0px\; vertical-align: baseline\; background: transparent\; font-style: inherit\; font-variant: inherit\; font-weight: bold\; font-stretch: inherit\; line-height: inherit\;"><span style="margin: 0px\; padding: 0px\; border: 0px\; outline: 0px\; vertical-align: baseline\; background: transparent\; font-style: inherit\; font-variant: inherit\; font-weight: inherit\; font-stretch: inherit\; line-height: inherit\;"><span class="color_35" style="margin: 0px\; padding: 0px\; border: 0px\; outline: 0px\; vertical-align: baseline\; background: transparent\; font-style: inherit\; font-variant: inherit\; font-weight: inherit\; font-stretch: inherit\; line-height: inherit\; font-family: inherit\; color: rgb(var(--color_35))\;"><span style="margin: 0px\; padding: 0px\; border: 0px\; outline: 0px\; vertical-align: baseline\; background: transparent\; font-style: italic\; font-variant: inherit\; font-weight: inherit\; font-stretch: inherit\; line-height: inherit\;"><span ms="" style="margin: 0px\; padding: 0px\; border: 0px\; outline: 0px\; vertical-align: baseline\; background: transparent\; font-style: inherit\; font-variant: inherit\; font-weight: inherit\; font-stretch: inherit\; line-height: inherit\; font-family: arial\, ">WHERE:&nbsp\;</span></span></span><span class="color_19" style="margin: 0px\; padding: 0px\; border: 0px\; outline: 0px\; vertical-align: baseline\; background: transparent\; font-style: inherit\; font-variant: inherit\; font-weight: inherit\; font-stretch: inherit\; line-height: inherit\; font-family: inherit\; color: rgb(var(--color_19))\;"><span style="margin: 0px\; padding: 0px\; border: 0px\; outline: 0px\; vertical-align: baseline\; background: transparent\; font-style: italic\; font-variant: inherit\; font-weight: inherit\; font-stretch: inherit\; line-height: inherit\;"><span ms="" style="margin: 0px\; padding: 0px\; border: 0px\; outline: 0px\; vertical-align: baseline\; background: transparent\; font-style: inherit\; font-variant: inherit\; font-weight: inherit\; font-stretch: inherit\; line-height: inherit\; font-family: arial\, ">KEARNEY COUNTRY CLUB</span></span></span></span></span></span></p>\n\n<p class="font_9" style="margin: 0px\; padding: 0px\; border: 0px\; outline: 0px\; vertical-align: baseline\; background: transparent\; font-size: 32px\; pointer-events: auto\; color: rgb(var(--color_19))\; letter-spacing: 0em\; text-align: center\;"><span style="font-size:12px\;"><span style="margin: 0px\; padding: 0px\; border: 0px\; outline: 0px\; vertical-align: baseline\; background: transparent\; font-style: inherit\; font-variant: inherit\; font-weight: bold\; font-stretch: inherit\; line-height: inherit\;"><span style="margin: 0px\; padding: 0px\; border: 0px\; outline: 0px\; vertical-align: baseline\; background: transparent\; font-style: inherit\; font-variant: inherit\; font-weight: inherit\; font-stretch: inherit\; line-height: inherit\;"><span class="color_35" style="margin: 0px\; padding: 0px\; border: 0px\; outline: 0px\; vertical-align: baseline\; background: transparent\; font-style: inherit\; font-variant: inherit\; font-weight: inherit\; font-stretch: inherit\; line-height: inherit\; font-family: inherit\; color: rgb(var(--color_35))\;"><span style="margin: 0px\; padding: 0px\; border: 0px\; outline: 0px\; vertical-align: baseline\; background: transparent\; font-style: italic\; font-variant: inherit\; font-weight: inherit\; font-stretch: inherit\; line-height: inherit\;"><span ms="" style="margin: 0px\; padding: 0px\; border: 0px\; outline: 0px\; vertical-align: baseline\; background: transparent\; font-style: inherit\; font-variant: inherit\; font-weight: inherit\; font-stretch: inherit\; line-height: inherit\; font-family: arial\, ">TIME:&nbsp\;</span></span></span><span class="color_19" style="margin: 0px\; padding: 0px\; border: 0px\; outline: 0px\; vertical-align: baseline\; background: transparent\; font-style: inherit\; font-variant: inherit\; font-weight: inherit\; font-stretch: inherit\; line-height: inherit\; font-family: inherit\; color: rgb(var(--color_19))\;"><span style="margin: 0px\; padding: 0px\; border: 0px\; outline: 0px\; vertical-align: baseline\; background: transparent\; font-style: italic\; font-variant: inherit\; font-weight: inherit\; font-stretch: inherit\; line-height: inherit\;"><span ms="" style="margin: 0px\; padding: 0px\; border: 0px\; outline: 0px\; vertical-align: baseline\; background: transparent\; font-style: inherit\; font-variant: inherit\; font-weight: inherit\; font-stretch: inherit\; line-height: inherit\; font-family: arial\, ">9:00 AM REGISTRATION</span></span></span></span></span></span></p>\n\n<p class="font_9" style="margin: 0px\; padding: 0px\; border: 0px\; outline: 0px\; vertical-align: baseline\; background: transparent\; font-size: 32px\; pointer-events: auto\; color: rgb(var(--color_19))\; letter-spacing: 0em\; text-align: center\;"><span style="font-size:12px\;"><span style="margin: 0px\; padding: 0px\; border: 0px\; outline: 0px\; vertical-align: baseline\; background: transparent\; font-style: inherit\; font-variant: inherit\; font-weight: bold\; font-stretch: inherit\; line-height: inherit\;"><span style="margin: 0px\; padding: 0px\; border: 0px\; outline: 0px\; vertical-align: baseline\; background: transparent\; font-style: inherit\; font-variant: inherit\; font-weight: inherit\; font-stretch: inherit\; line-height: inherit\;"><span class="color_35" style="margin: 0px\; padding: 0px\; border: 0px\; outline: 0px\; vertical-align: baseline\; background: transparent\; font-style: inherit\; font-variant: inherit\; font-weight: inherit\; font-stretch: inherit\; line-height: inherit\; font-family: inherit\; color: rgb(var(--color_35))\;"><span style="margin: 0px\; padding: 0px\; border: 0px\; outline: 0px\; vertical-align: baseline\; background: transparent\; font-style: italic\; font-variant: inherit\; font-weight: inherit\; font-stretch: inherit\; line-height: inherit\;"><span ms="" style="margin: 0px\; padding: 0px\; border: 0px\; outline: 0px\; vertical-align: baseline\; background: transparent\; font-style: inherit\; font-variant: inherit\; font-weight: inherit\; font-stretch: inherit\; line-height: inherit\; font-family: arial\, ">&nbsp\; &nbsp\; &nbsp\; &nbsp\; &nbsp\;&nbsp\;</span></span></span><span class="color_19" style="margin: 0px\; padding: 0px\; border: 0px\; outline: 0px\; vertical-align: baseline\; background: transparent\; font-style: inherit\; font-variant: inherit\; font-weight: inherit\; font-stretch: inherit\; line-height: inherit\; font-family: inherit\; color: rgb(var(--color_19))\;"><span style="margin: 0px\; padding: 0px\; border: 0px\; outline: 0px\; vertical-align: baseline\; background: transparent\; font-style: italic\; font-variant: inherit\; font-weight: inherit\; font-stretch: inherit\; line-height: inherit\;"><span ms="" style="margin: 0px\; padding: 0px\; border: 0px\; outline: 0px\; vertical-align: baseline\; background: transparent\; font-style: inherit\; font-variant: inherit\; font-weight: inherit\; font-stretch: inherit\; line-height: inherit\; font-family: arial\, ">10:00 AM&nbsp\; SHOTGUN START</span></span></span></span></span></span></p>\n</div>\n
LOCATION:Kearney Country Club
UID:e.1404.19966
SEQUENCE:3
DTSTAMP:20260421T122724Z
URL:https://chambermaster.kearneycoc.org/events/details/leadership-kearney-alumni-golf-tournament-19966
END:VEVENT

END:VCALENDAR
