BEGIN:VCALENDAR
VERSION:2.0
PRODID:-//ChamberMaster//Event Calendar 2.0//EN
METHOD:PUBLISH
X-PUBLISHED-TTL:P3D
REFRESH-INTERVAL:P3D
CALSCALE:GREGORIAN
BEGIN:VEVENT
DTSTART:20140919T163000Z
DTEND:20140919T230000Z
X-MICROSOFT-CDO-ALLDAYEVENT:FALSE
SUMMARY:Leadership Kearney Annual Golf Tournament
DESCRIPTION:Leadership Kearney is hosting its annual golf tournament on Sept. 19 at Meadowlark Hills Golf Course. The tournament begins with a 12:30 p.m. shotgun start\, with check-in and registrations beginning at 11:30 a.m. Prizes will be paid out to winning teams. Golfers will have chances to win a number of large prizes\, including a new car in a hole-in-one contest sponsored by Killion Motors. The $260 registration fee can be paid in advance\, on the day of the tournament or online by registering at www.leadershipkearney.com. Leadership Kearney supporters can also register for $100 hole sponsorships\, which include hole signage and other recognition. Corporate sponsorships are also available for $320 and include one team entry. New to this year?s tournament are player card sponsorships\, which are available for $400 and also include one team entry. The ?Player Card? will include: individual mulligans\, a raffle ticket and entry in the impossible putt contest and Play It Forward hole. Those interested in donating prizes or becoming a sponsor should contact Derek Rusher at 402.936.0175 or drusher11@gmail.com Participants are urged to register by Sept. 1. All proceeds from the golf tournament go toward funding the Leadership Kearney program.
X-ALT-DESC;FMTTYPE=text/html:Leadership Kearney is hosting its annual golf tournament on Sept. 19 at Meadowlark Hills Golf Course. The tournament begins with a 12:30 p.m. shotgun start\, with check-in and registrations beginning at 11:30 a.m. Prizes will be paid out to winning teams. Golfers will have chances to win a number of large prizes\, including a new car in a hole-in-one contest sponsored by Killion Motors. The $260 registration fee can be paid in advance\, on the day of the tournament or online by registering at www.leadershipkearney.com. Leadership Kearney supporters can also register for $100 hole sponsorships\, which include hole signage and other recognition. Corporate sponsorships are also available for $320 and include one team entry. New to this year?s tournament are player card sponsorships\, which are available for $400 and also include one team entry. The ?Player Card? will include: individual mulligans\, a raffle ticket and entry in the impossible putt contest and Play It Forward hole. Those interested in donating prizes or becoming a sponsor should contact Derek Rusher at 402.936.0175 or drusher11@gmail.com Participants are urged to register by Sept. 1. All proceeds from the golf tournament go toward funding the Leadership Kearney program.
LOCATION:Meadowlark Hills Golf Course
UID:e.1404.5317
SEQUENCE:3
DTSTAMP:20260423T083911Z
URL:https://chambermaster.kearneycoc.org/events/details/leadership-kearney-annual-golf-tournament-09-19-2014-5317
END:VEVENT

END:VCALENDAR
