BEGIN:VCALENDAR
VERSION:2.0
PRODID:-//ChamberMaster//Event Calendar 2.0//EN
METHOD:PUBLISH
X-PUBLISHED-TTL:P3D
REFRESH-INTERVAL:P3D
CALSCALE:GREGORIAN
BEGIN:VEVENT
DTSTART:20150213T180000Z
DTEND:20150214T000000Z
X-MICROSOFT-CDO-ALLDAYEVENT:FALSE
SUMMARY:Leadership Kearney Blood Drive
DESCRIPTION:Leadership Kearney Blood Drive
X-ALT-DESC;FMTTYPE=text/html:Leadership Kearney Blood Drive<br />\n&nbsp\;
LOCATION:Heritage Plaza Building 315 West 60th Street (Between Heritage Bank and Countryman Associates).
UID:e.1404.5993
SEQUENCE:3
DTSTAMP:20260423T003355Z
URL:https://chambermaster.kearneycoc.org/events/details/leadership-kearney-blood-drive-02-13-2015-5993
END:VEVENT

END:VCALENDAR
