BEGIN:VCALENDAR
VERSION:2.0
PRODID:-//ChamberMaster//Event Calendar 2.0//EN
METHOD:PUBLISH
X-PUBLISHED-TTL:P3D
REFRESH-INTERVAL:P3D
CALSCALE:GREGORIAN
BEGIN:VEVENT
DTSTART:20210226T180000Z
DTEND:20210227T000000Z
X-MICROSOFT-CDO-ALLDAYEVENT:FALSE
SUMMARY:Leadership Kearney Blood Drive
DESCRIPTION:Leadership Kearney would like to invite you to our annual Leadership Kearney Blood Drive. Help us hit our goal of 33 donors! Give the gift of life!\n\n\n\nRegister to donate at: www.redcrossblood.org/give.html/donation-time
X-ALT-DESC;FMTTYPE=text/html:Leadership Kearney would like to invite you to our annual Leadership Kearney Blood Drive. Help us hit our goal of 33 donors! Give the gift of life!<br />\n<br />\n<span style="font-size:14px\;"><span style="font-family:arial\;"><span style="color: rgb(5\, 5\, 5)\; white-space: pre-wrap\; background-color: rgb(255\, 255\, 255)\;">Register to donate at: </span><span style="color: rgb(5\, 5\, 5)\; white-space: pre-wrap\; background-color: rgb(255\, 255\, 255)\;"><a class="oajrlxb2 g5ia77u1 qu0x051f esr5mh6w e9989ue4 r7d6kgcz rq0escxv nhd2j8a9 nc684nl6 p7hjln8o kvgmc6g5 cxmmr5t8 oygrvhab hcukyx3x jb3vyjys rz4wbd8a qt6c0cv9 a8nywdso i1ao9s8h esuyzwwr f1sip0of lzcic4wl py34i1dx gpro0wi8" href="http://www.redcrossblood.org/give.html/donation-time?fbclid=IwAR3J6gn3KT8JyG8vU8BnjVsPIbK2gwqi11TqcXi-tRJ6VZ0l2TGRYb8IAtc" rel="nofollow noopener" role="link" style="cursor: pointer\; text-decoration-line: none\; outline: none\; list-style: none\; border-width: 0px\; border-style: initial\; border-color: initial\; padding: 0px\; margin: 0px\; touch-action: manipulation\; background-color: transparent\; text-align: inherit\; display: inline\; -webkit-tap-highlight-color: transparent\; box-sizing: border-box\; font-family: inherit\;" tabindex="0" target="_blank">www.redcrossblood.org/give.html/donation-time</a></span></span></span>
LOCATION:American Red Cross Fort Kearney Chapter 520 W 48th St. Kearney NE
UID:e.1404.19211
SEQUENCE:3
DTSTAMP:20260424T155809Z
URL:https://chambermaster.kearneycoc.org/events/details/leadership-kearney-blood-drive-19211
END:VEVENT

END:VCALENDAR
