BEGIN:VCALENDAR
VERSION:2.0
PRODID:-//ChamberMaster//Event Calendar 2.0//EN
METHOD:PUBLISH
X-PUBLISHED-TTL:P3D
REFRESH-INTERVAL:P3D
CALSCALE:GREGORIAN
BEGIN:VEVENT
DTSTART:20150108T143000Z
DTEND:20150108T153000Z
X-MICROSOFT-CDO-ALLDAYEVENT:FALSE
SUMMARY:LEADS
DESCRIPTION:The Kearney Area Chamber of Commerce Leads group exists to help increase and/or grow your business in a professional and ethical way.  The groups exist to provide members of various professions the opportunity to further their business and financial interest.  Developing a strong network of advisors can increase the value to your clients/business by becoming a central resource point to assist you in finding the services they need.  \n\n\n\nLocation: Kearney Area Chamber of Commerce | 1007 2nd Ave\n\n\n\nDate & Time: Thursday\, January 8 from 8:30-9:30 AM\n\n\n\n*Please note that this event is for Kearney Area Chamber Members and their invited guests. For further information on membership or joining us as a guest\, please call our office at 237-3101.
X-ALT-DESC;FMTTYPE=text/html:<p><span style="font-family:arial\,sans-serif\;">The Kearney Area Chamber of Commerce Leads group exists to help increase and/or grow your business in a professional and ethical way.&nbsp\; The groups exist to provide members of various professions the opportunity to further their business and financial interest.&nbsp\; Developing a strong network of advisors can increase the value to your clients/business by becoming a central resource point to assist you in finding the services they need.&nbsp\;&nbsp\;<br />\n<br />\nLocation: Kearney Area Chamber of Commerce | 1007 2nd Ave</span><br />\n<br />\nDate &amp\; Time: Thursday\, January 8 from 8:30-9:30 AM<br />\n<br />\n<span style="color:#000080\;"><span style="font-size:10px\;">*Please note that this event is for Kearney Area Chamber Members and their invited guests. For further information on membership or joining us as a guest\, please call our office at 237-3101.</span></span></p>\n
LOCATION:
UID:e.1404.859
SEQUENCE:3
DTSTAMP:20260423T020303Z
URL:https://chambermaster.kearneycoc.org/events/details/leads-01-08-2015-859
END:VEVENT

END:VCALENDAR
