BEGIN:VCALENDAR
VERSION:2.0
PRODID:-//ChamberMaster//Event Calendar 2.0//EN
METHOD:PUBLISH
X-PUBLISHED-TTL:P3D
REFRESH-INTERVAL:P3D
CALSCALE:GREGORIAN
BEGIN:VEVENT
DTSTART:20161208T143000Z
DTEND:20161208T153000Z
X-MICROSOFT-CDO-ALLDAYEVENT:FALSE
SUMMARY:LEADS
DESCRIPTION:The LEADS Group's purpose is to create a close-knit networking group of professionals with the purpose of creating increased business and revenue.  Meeting the 2nd & 4th Thursdays of the month\, the group is for professionals that rely on referrals (or leads). There is only one individual from each industry in the group . To inquire about joining this group Contact Elizabeth Roetman.
X-ALT-DESC;FMTTYPE=text/html:<span style="language:en-US\;"><span style="font-family:helvetica lt\;">The LEADS Group&rsquo\;s purpose is to create a close-knit networking group of professionals with the purpose of creating increased business and revenue.&nbsp\; Meeting the 2</span></span><span style="language:en-US\;"><span style="font-family:helvetica lt\;"><sup>nd</sup></span></span><span style="language:en-US\;"><span style="font-family:helvetica lt\;"> &amp\; 4</span></span><span style="language:en-US\;"><span style="font-family:helvetica lt\;"><sup>th</sup></span></span><span style="language:en-US\;"><span style="font-family:helvetica lt\;"> Thursdays of the month\, the group is for professionals that rely on referrals (or leads). There is only one individual from each industry in the group . </span></span><span style="language:en-US\;"><span style="font-family:helvetica lt\;">To inquire about joining this group Contact Elizabeth Roetman.</span></span><br />\n&nbsp\;
LOCATION:Kearney Area Chamber of Commerce 1007 2nd Ave Board Room
UID:e.1404.882
SEQUENCE:3
DTSTAMP:20260419T121043Z
URL:https://chambermaster.kearneycoc.org/events/details/leads-12-08-2016-882
END:VEVENT

END:VCALENDAR
