BEGIN:VCALENDAR
VERSION:2.0
PRODID:-//ChamberMaster//Event Calendar 2.0//EN
METHOD:PUBLISH
X-PUBLISHED-TTL:P3D
REFRESH-INTERVAL:P3D
CALSCALE:GREGORIAN
BEGIN:VEVENT
DTSTART:20220802T210000Z
DTEND:20220802T220000Z
X-MICROSOFT-CDO-ALLDAYEVENT:FALSE
SUMMARY:LEADS Green
DESCRIPTION:*NOTE - this is a fee based group with participants limited to 1 per industry. Please contact Amy Cope for more information before submitting a registration.\n\n\n\nChair: Monica Richard - Viaero Wireless\n\nCo-Chair: \n\n\n\nThe LEADS Groups purpose is to create a close-nit networking group of professionals in the area with the purpose of creating increased business and revenue. \n\n\n\nThe group is mainly for professionals that rely on referrals (or leads). There is only one individual from any particular industry in each group so there is no overlapping.\n\n\n\nThe group meets bi-weekly and gets to know each other and each other's services very well with the intention being that any given individual in the group would feel comfortably referring a client\, friend or family member to any other given individual in the group. There can be as many LEADS Groups as needed at the Kearney Chamber. To inquire about joining a LEADS Group\, contact Amy Cope.
X-ALT-DESC;FMTTYPE=text/html:<em style="color: rgb(51\, 51\, 51)\; font-family: sans-serif\, Arial\, Verdana\, &quot\;Trebuchet MS&quot\;\; font-size: 13px\;"><strong>*NOTE -</strong>&nbsp\;this is a fee based group with participants limited to 1 per industry. Please contact&nbsp\;<a href="mailto:acope@kearneycoc.org" style="color: rgb(7\, 130\, 193)\;">Amy Cope</a>&nbsp\;for more information before submitting a registration.</em><br />\n<br />\n<span style="font-size:14px\;"><span class="color_35"><span style="font-family:helvetica-w01-roman\,helvetica-w02-roman\,helvetica-lt-w10-roman\,sans-serif\;"><strong>Chair:</strong> Monica Richard - Viaero Wireless<br />\n<strong>Co-Chair:</strong>&nbsp\;</span></span></span><br />\n<br />\n<span style="font-size:14px\;"><span class="color_35"><span style="font-family:helvetica-w01-roman\,helvetica-w02-roman\,helvetica-lt-w10-roman\,sans-serif\;">The LEADS Groups purpose is to create a&nbsp\;close-nit&nbsp\;networking group of professionals in the area with the purpose of creating increased business and revenue.&nbsp\;<br />\n<br />\nThe group is mainly for professionals that rely on referrals (or leads). There is only one individual from any particular industry in each group so there is no overlapping.<br />\n<br />\nThe group meets bi-weekly and gets to know each other and each other&#39\;s services very well with the intention being that any given individual in the group would feel&nbsp\;comfortably&nbsp\;referring a client\, friend or family member to any other given individual in the group. There can be as many LEADS Groups as needed at the Kearney Chamber. To inquire about joining a LEADS Group\, contact Amy Cope.</span></span></span>
LOCATION:Kearney Area Chamber of Commerce (unless otherwise noted) 1007 2nd Ave.
UID:e.1404.15309
SEQUENCE:3
DTSTAMP:20260421T122612Z
URL:https://chambermaster.kearneycoc.org/events/details/leads-green-08-02-2022-15309
END:VEVENT

END:VCALENDAR
