BEGIN:VCALENDAR
VERSION:2.0
PRODID:-//ChamberMaster//Event Calendar 2.0//EN
METHOD:PUBLISH
X-PUBLISHED-TTL:P3D
REFRESH-INTERVAL:P3D
CALSCALE:GREGORIAN
BEGIN:VEVENT
DTSTART:20200208T150000Z
DTEND:20200208T160000Z
X-MICROSOFT-CDO-ALLDAYEVENT:FALSE
SUMMARY:Learn How Your Phone Can Serve as 'Digital Diary'
DESCRIPTION:Emergencies or natural disasters can happen at any time\, so it's important to be prepared. A smartphone or tablet can be a vital tool to help you document belongings\, store emergency contact information\, stay on top of the latest news or weather and keep connected with friends and family. With that in mind\, U.S. Cellular will host a free Device Workshop in Kearney\, where associates will share ways that your phone can serve as a "digital diary" in times of emergency. The workshop is open to everyone. You do not need to be a U.S. Cellular customer to attend. "It's important to be organized before an emergency happens\, so I encourage the community to come to our workshop to learn from our tech experts how a smartphone can make preparing for an emergency easier\," said Mike Adams\, U.S. Cellular's director of sales for Nebraska and Iowa. Please call 308-236-2075 for more information.
X-ALT-DESC;FMTTYPE=text/html:Emergencies or natural disasters can happen at any time\, so it&rsquo\;s important to be prepared. A smartphone or tablet can be a vital tool to help you document belongings\, store emergency contact information\, stay on top of the latest news or weather and keep connected with friends and family. With that in mind\, U.S. Cellular will host a free Device Workshop in Kearney\, where associates will share ways that your phone can serve as a &ldquo\;digital diary&rdquo\; in times of emergency. The workshop is open to everyone. You do not need to be a U.S. Cellular customer to attend. &ldquo\;It&rsquo\;s important to be organized before an emergency happens\, so I encourage the community to come to our workshop to learn from our tech experts how a smartphone can make preparing for an emergency easier\,&rdquo\; said Mike Adams\, U.S. Cellular&rsquo\;s director of sales for Nebraska and Iowa. Please call 308-236-2075 for more information.
LOCATION:U.S. Cellular 5306 Second Ave. Kearney\, NE 68845
UID:e.1404.18345
SEQUENCE:3
DTSTAMP:20260425T113252Z
URL:https://chambermaster.kearneycoc.org/events/details/learn-how-your-phone-can-serve-as-digital-diary-18345
END:VEVENT

END:VCALENDAR
