BEGIN:VCALENDAR
VERSION:2.0
PRODID:-//ChamberMaster//Event Calendar 2.0//EN
METHOD:PUBLISH
X-PUBLISHED-TTL:P3D
REFRESH-INTERVAL:P3D
CALSCALE:GREGORIAN
BEGIN:VEVENT
DTSTART:20120322T170000Z
DTEND:20120322T183000Z
X-MICROSOFT-CDO-ALLDAYEVENT:FALSE
SUMMARY:Legislative Lunch
DESCRIPTION:Legislative Lunch\n\n	Thursday\, March 22nd\n\n	State Capitol\, Room 1023\n\n	12 - noon to 1:30 pm\n\n	RSVP to Jan at \n\n	jrodehorst@kearneycoc.org\n\n	Deadline: March 16th
X-ALT-DESC;FMTTYPE=text/html:<p style="margin-top: 0px\; margin-bottom: 0px">\n	<span style="font-family: arial\, helvetica\, sans-serif\; font-size: 12pt"><strong>Legislative Lunch</strong></span></p>\n<p style="margin-top: 0px\; margin-bottom: 0px">\n	<span style="font-family: arial\, helvetica\, sans-serif\; font-size: 12pt">Thursday\, March 22nd</span></p>\n<p style="margin-top: 0px\; margin-bottom: 0px">\n	<span style="font-family: arial\, helvetica\, sans-serif\; font-size: 12pt">State Capitol\, Room 1023</span><br />\n	<span style="font-family: arial\, helvetica\, sans-serif\; font-size: 12pt">12 -&nbsp\;noon to 1:30 pm</span></p>\n<p style="margin-top: 0px\; margin-bottom: 0px">\n	<span style="font-family: arial\, helvetica\, sans-serif\; font-size: 12pt">RSVP to Jan at </span></p>\n<p style="margin-top: 0px\; margin-bottom: 0px">\n	<a href="mailto:jrodehorst@kearneycoc.org" shape="rect" style="font-family: arial\, helvetica\, sans-serif\; font-size: 12pt" target="_blank" title="mailto:jrodehorst@kearneycoc.org">jrodehorst@kearneycoc.org</a><br />\n	<span style="font-family: arial\, helvetica\, sans-serif\; font-size: 12pt">Deadline: March 16th</span></p>\n
LOCATION:
UID:e.1404.1873
SEQUENCE:3
DTSTAMP:20260425T113123Z
URL:https://chambermaster.kearneycoc.org/events/details/legislative-lunch-03-22-2012-1873
END:VEVENT

END:VCALENDAR
