BEGIN:VCALENDAR
VERSION:2.0
PRODID:-//ChamberMaster//Event Calendar 2.0//EN
METHOD:PUBLISH
X-PUBLISHED-TTL:P3D
REFRESH-INTERVAL:P3D
CALSCALE:GREGORIAN
BEGIN:VEVENT
DTSTART:20161007T003000Z
DTEND:20161017T030000Z
X-MICROSOFT-CDO-ALLDAYEVENT:FALSE
SUMMARY:"Lend Me a Tenor"\, presented by Kearney Community Theatre and First National Ban
DESCRIPTION:The Cleveland Grand Opera Company is primed to welcome world famous Tito Morelli\, "IL STUPENDO\," the greatest tenor of his generation\, to appear for one night only as Otello. But a hilarious series of mishaps will leave audiences teary-eyed with laughter at this madcap comedy!
X-ALT-DESC;FMTTYPE=text/html:The Cleveland Grand Opera Company is primed to welcome world famous Tito Morelli\, &quot\;IL STUPENDO\,&quot\; the greatest tenor of his generation\, to appear for one night only as Otello. But a hilarious series of mishaps will leave audiences teary-eyed with laughter at this madcap comedy!
LOCATION:Kearney Community Theatre 83 Plaza Blvd Kearney\, NE 68845
UID:e.1404.9043
SEQUENCE:3
DTSTAMP:20260421T140707Z
URL:https://chambermaster.kearneycoc.org/events/details/lend-me-a-tenor-presented-by-kearney-community-theatre-and-first-national-ban-9043
END:VEVENT

END:VCALENDAR
