BEGIN:VCALENDAR
VERSION:2.0
PRODID:-//ChamberMaster//Event Calendar 2.0//EN
METHOD:PUBLISH
X-PUBLISHED-TTL:P3D
REFRESH-INTERVAL:P3D
CALSCALE:GREGORIAN
BEGIN:VEVENT
DTSTART:20141214T010000Z
DTEND:20141214T030000Z
X-MICROSOFT-CDO-ALLDAYEVENT:FALSE
SUMMARY:Let It Snow!
DESCRIPTION:Crane River Theater presents Music\, Dance and Film all wrapped up into a holiday event for the whole family! Featuring performances by\, the OK Sisters\, Lead Me Home\, Northeast Bobcat Choir\, Dance Catz\, Kearney Jazz Society\, Patent Pending\, Kearney High Chorale\, Philippe Siassia\, Platte River Singers and soloists from Crane River Theater!
X-ALT-DESC;FMTTYPE=text/html:Crane River Theater presents Music\, Dance and Film all wrapped up into a holiday event for the whole family! Featuring performances by\, the OK Sisters\, Lead Me Home\, Northeast Bobcat Choir\, Dance Catz\, Kearney Jazz Society\, Patent Pending\, Kearney High Chorale\, Philippe Siassia\, Platte River Singers and soloists from Crane River Theater!
LOCATION:Merryman Performing Arts Center 225 W. 22nd Street Kearney\, NE 68845
UID:e.1404.5414
SEQUENCE:3
DTSTAMP:20260423T034024Z
URL:https://chambermaster.kearneycoc.org/events/details/let-it-snow-12-13-2014-5414
END:VEVENT

END:VCALENDAR
