BEGIN:VCALENDAR
VERSION:2.0
PRODID:-//ChamberMaster//Event Calendar 2.0//EN
METHOD:PUBLISH
X-PUBLISHED-TTL:P3D
REFRESH-INTERVAL:P3D
CALSCALE:GREGORIAN
BEGIN:VEVENT
DTSTART:20140321T164500Z
DTEND:20140321T181500Z
X-MICROSOFT-CDO-ALLDAYEVENT:FALSE
SUMMARY:Liftoff Luncheon
DESCRIPTION:Speaker: Brian "Fox" Ellis will be presenting Prairie Tales! Explore the human and natural history of the tall grass prairie through this dynamic presentation of ecological folklore. \n\n\n\nLunch is included in ticket cost.
X-ALT-DESC;FMTTYPE=text/html:Speaker: Brian &quot\;Fox&quot\; Ellis will be presenting Prairie Tales! Explore the human and natural history of the tall grass prairie through this dynamic presentation of ecological folklore.&nbsp\;<br />\n<br />\nLunch is included in ticket cost.&nbsp\;
LOCATION:Younes Conference Center 416 Talmadge Road Kearney\, NE 68845
UID:e.1404.4431
SEQUENCE:3
DTSTAMP:20260423T181055Z
URL:https://chambermaster.kearneycoc.org/events/details/liftoff-luncheon-03-21-2014-4431
END:VEVENT

END:VCALENDAR
