BEGIN:VCALENDAR
VERSION:2.0
PRODID:-//ChamberMaster//Event Calendar 2.0//EN
METHOD:PUBLISH
X-PUBLISHED-TTL:P3D
REFRESH-INTERVAL:P3D
CALSCALE:GREGORIAN
BEGIN:VEVENT
DTSTART:20130322T164500Z
DTEND:20130322T181500Z
X-MICROSOFT-CDO-ALLDAYEVENT:FALSE
SUMMARY:Liftoff Luncheon
DESCRIPTION:Keynote Speaker: Thomas D. Mangelsen\n\n\n\nPurchase your tickets today!\n\nCall the Kearney Area Chamber of Commerce at 237-3101.
X-ALT-DESC;FMTTYPE=text/html:Keynote Speaker: Thomas D. Mangelsen<br />\n<br />\nPurchase your tickets today!<br />\nCall the Kearney Area Chamber of Commerce at 237-3101.
LOCATION:Younes Conference Center 416 Talmadge Rd.
UID:e.1404.2258
SEQUENCE:3
DTSTAMP:20260424T155836Z
URL:https://chambermaster.kearneycoc.org/events/details/liftoff-luncheon-03-22-2013-2258
END:VEVENT

END:VCALENDAR
