BEGIN:VCALENDAR
VERSION:2.0
PRODID:-//ChamberMaster//Event Calendar 2.0//EN
METHOD:PUBLISH
X-PUBLISHED-TTL:P3D
REFRESH-INTERVAL:P3D
CALSCALE:GREGORIAN
BEGIN:VEVENT
DTSTART:20140914T010000Z
DTEND:20140914T030000Z
X-MICROSOFT-CDO-ALLDAYEVENT:FALSE
SUMMARY:Light up the Night 5k
DESCRIPTION:**Registration is now open for the Light Up the Night 5K walk/run on Saturday\, September 13\, 2014 at Yanney Park in Kearney. This event to raise mental health awareness\, is sponsored by Good Samaritan Hospital's Richard Young Behavioral Health Center and the Nebraska Counseling Association. Runners and walkers are welcome and those pre-registered before September 5th will receive a T-shirt.  Registration is $20 and includes a t-shirt and glow bracelet and necklace.  We will have a DJ\, food\, prizes\, and  it will be a great time for you and your family.
X-ALT-DESC;FMTTYPE=text/html:**Registration is now open for the Light Up the Night 5K walk/run on Saturday\, September 13\, 2014 at Yanney Park in Kearney. This event to raise mental health awareness\, is sponsored by Good Samaritan Hospital&#39\;s Richard Young Behavioral Health Center and the Nebraska Counseling Association. Runners and walkers are welcome and those pre-registered before September 5th will receive a T-shirt.&nbsp\; Registration is $20 and includes a t-shirt and glow bracelet and necklace. &nbsp\;We will have a DJ\, food\, prizes\, and &nbsp\;it will be a great time for you and your family.
LOCATION:Yanney Park\, Kearney\, NE
UID:e.1404.5309
SEQUENCE:3
DTSTAMP:20260423T083605Z
URL:https://chambermaster.kearneycoc.org/events/details/light-up-the-night-5k-09-13-2014-5309
END:VEVENT

END:VCALENDAR
