BEGIN:VCALENDAR
VERSION:2.0
PRODID:-//ChamberMaster//Event Calendar 2.0//EN
METHOD:PUBLISH
X-PUBLISHED-TTL:P3D
REFRESH-INTERVAL:P3D
CALSCALE:GREGORIAN
BEGIN:VEVENT
DTSTART:20210702T130000Z
DTEND:20210702T200000Z
X-MICROSOFT-CDO-ALLDAYEVENT:FALSE
SUMMARY:Little Vet! Camp
DESCRIPTION:Youth Summer Camp for Ages 4-10
X-ALT-DESC;FMTTYPE=text/html:Youth Summer Camp for Ages 4-10
LOCATION:Kearney Area Children's Museum
UID:e.1404.19278
SEQUENCE:3
DTSTAMP:20260424T060410Z
URL:https://chambermaster.kearneycoc.org/events/details/little-vet-camp-19278
END:VEVENT

END:VCALENDAR
