BEGIN:VCALENDAR
VERSION:2.0
PRODID:-//ChamberMaster//Event Calendar 2.0//EN
METHOD:PUBLISH
X-PUBLISHED-TTL:P3D
REFRESH-INTERVAL:P3D
CALSCALE:GREGORIAN
BEGIN:VEVENT
DTSTART:20141220T003000Z
DTEND:20141221T030000Z
X-MICROSOFT-CDO-ALLDAYEVENT:FALSE
SUMMARY:Live Christmas Nativity
DESCRIPTION:Faith Christian School of Kearney\, Nebraska will present a Live Nativity outside the school (5710 19th Ave.) on Friday and Saturday (December 19th and 20th) from 6:30-9:00 pm. Please come out enjoy live animals and live Bible characters as they tell the true meaning of Christmas!
X-ALT-DESC;FMTTYPE=text/html:Faith Christian School of Kearney\, Nebraska will present a Live Nativity outside the school (5710 19th Ave.) on Friday and Saturday (December 19th and 20th) from 6:30-9:00 pm. Please come out enjoy live animals and live Bible characters as they tell the true meaning of Christmas!
LOCATION:5710 19th Ave. Kearney\, NE
UID:e.1404.5434
SEQUENCE:3
DTSTAMP:20260423T034535Z
URL:https://chambermaster.kearneycoc.org/events/details/live-christmas-nativity-12-19-2014-5434
END:VEVENT

END:VCALENDAR
