BEGIN:VCALENDAR
VERSION:2.0
PRODID:-//ChamberMaster//Event Calendar 2.0//EN
METHOD:PUBLISH
X-PUBLISHED-TTL:P3D
REFRESH-INTERVAL:P3D
CALSCALE:GREGORIAN
BEGIN:VEVENT
DTSTART:20130626T210000Z
DTEND:20130627T000000Z
X-MICROSOFT-CDO-ALLDAYEVENT:FALSE
SUMMARY:Livewell Nebraska Tour
DESCRIPTION:2013 Livewell Nebraska Tour June 23rd   June 28th\n\n \n\nWednesday June 26th at Kearney \n\n \n\nKearney Family YMCA 4:00 p.m.   7:00 p.m.\n\n \n\n \n\nLivewell Nebraska: Blue Cross Blue Shield / Midlands Newspapers\n\n \n\n          Health Screenings   Mobile screening unit  (Semi & Trailer)\n\n \n\n          Community Forum  - Healthcare Reform for Small Businesses \n\n \n\n          Present BCBS community grants\n\n \n\nNebraska Sports Council\n\n \n\n          Cornhusker Games Torch Run coordination at each tour stop.\n\n \n\n          Coordinate Nebraska National Guard   Fitness program \, Displays\, Helicopter \n\n \n\n          Schedule Sports Clinics in cooperation with YMCA\n\n \n\n          Direct mailer to schools for Family Fitness Challenge and Tour \n\n \n\n          Sports Council Booth or display \n\n \n\n          Hand out fitness awards\n\n \n\nGuest Athletes\n\n \n\nJordan Larson   Husker and U.S. National VB team \n\nCurt Tomasevicz - Former Husker Football & 2010 Winter Olympic Gold Medal Winner\n\n \n\n          Will do meet & greets at each stop \n\n \n\n          Talk about fitness and hand out awards on stage\n\n \n\n          Host VB clinic/ healthy fitness camp \n\n \n\n \n\nExhibits -Local organizations and businesses \n\n \n\nOutdoor Activities  - YMCA
X-ALT-DESC;FMTTYPE=text/html:<strong><span style="font-family:arial\,sans-serif\;"><span style="font-size:14.0pt\;">2013 Livewell Nebraska Tour June 23<sup>rd</sup> &ndash\; June 28<sup>th</sup></span></span></strong><br />\n&nbsp\;<br />\n<strong><span style="font-family:arial\,sans-serif\;">Wednesday June 26<sup>th</sup> at Kearney </span></strong><br />\n&nbsp\;<br />\n<strong><span style="font-family:arial\,sans-serif\;">Kearney</span></strong><strong><span style="font-family:arial\,sans-serif\;"> Family YMCA 4:00 p.m. &ndash\; 7:00 p.m.</span></strong><br />\n&nbsp\;<br />\n&nbsp\;<br />\n<span style="font-family:arial\,sans-serif\;"><span style="font-size:14.0pt\;">Livewell Nebraska: </span></span><strong><span style="font-family:arial\,sans-serif\;"><span style="font-size:11.0pt\;">Blue Cross Blue Shield / Midlands Newspapers</span></span></strong><br />\n&nbsp\;<br />\n<span style="font-family:symbol\;"><span style="font-size:10.0pt\;">&middot\;&nbsp\;&nbsp\;&nbsp\;&nbsp\;&nbsp\;&nbsp\;&nbsp\;&nbsp\; </span></span><span style="font-family:arial\,sans-serif\;"><span style="font-size:10.0pt\;">Health Screenings &ndash\; Mobile screening unit&nbsp\; (Semi &amp\; Trailer)</span></span><br />\n&nbsp\;<br />\n<span style="font-family:symbol\;"><span style="font-size:10.0pt\;">&middot\;&nbsp\;&nbsp\;&nbsp\;&nbsp\;&nbsp\;&nbsp\;&nbsp\;&nbsp\; </span></span><span style="font-family:arial\,sans-serif\;"><span style="font-size:10.0pt\;">Community Forum &nbsp\;- Healthcare Reform for Small Businesses </span></span><br />\n&nbsp\;<br />\n<span style="font-family:symbol\;"><span style="font-size:10.0pt\;">&middot\;&nbsp\;&nbsp\;&nbsp\;&nbsp\;&nbsp\;&nbsp\;&nbsp\;&nbsp\; </span></span><span style="font-family:arial\,sans-serif\;"><span style="font-size:10.0pt\;">Present BCBS community grants</span></span><br />\n&nbsp\;<br />\n<span style="font-family:arial\,sans-serif\;"><span style="font-size:14.0pt\;">Nebraska</span></span><span style="font-family:arial\,sans-serif\;"><span style="font-size:14.0pt\;"> Sports Council</span></span><br />\n&nbsp\;<br />\n<span style="font-family:symbol\;"><span style="font-size:10.0pt\;">&middot\;&nbsp\;&nbsp\;&nbsp\;&nbsp\;&nbsp\;&nbsp\;&nbsp\;&nbsp\; </span></span><span style="font-family:arial\,sans-serif\;"><span style="font-size:10.0pt\;">Cornhusker Games Torch Run coordination at each tour stop.</span></span><br />\n&nbsp\;<br />\n<span style="font-family:symbol\;"><span style="font-size:10.0pt\;">&middot\;&nbsp\;&nbsp\;&nbsp\;&nbsp\;&nbsp\;&nbsp\;&nbsp\;&nbsp\; </span></span><span style="font-family:arial\,sans-serif\;"><span style="font-size:10.0pt\;">Coordinate Nebraska National Guard &ndash\; Fitness program \, Displays\, Helicopter </span></span><br />\n&nbsp\;<br />\n<span style="font-family:symbol\;"><span style="font-size:10.0pt\;">&middot\;&nbsp\;&nbsp\;&nbsp\;&nbsp\;&nbsp\;&nbsp\;&nbsp\;&nbsp\; </span></span><span style="font-family:arial\,sans-serif\;"><span style="font-size:10.0pt\;">Schedule Sports Clinics in cooperation with YMCA</span></span><br />\n&nbsp\;<br />\n<span style="font-family:symbol\;"><span style="font-size:10.0pt\;">&middot\;&nbsp\;&nbsp\;&nbsp\;&nbsp\;&nbsp\;&nbsp\;&nbsp\;&nbsp\; </span></span><span style="font-family:arial\,sans-serif\;"><span style="font-size:10.0pt\;">Direct mailer to schools for Family Fitness Challenge and Tour </span></span><br />\n&nbsp\;<br />\n<span style="font-family:symbol\;"><span style="font-size:10.0pt\;">&middot\;&nbsp\;&nbsp\;&nbsp\;&nbsp\;&nbsp\;&nbsp\;&nbsp\;&nbsp\; </span></span><span style="font-family:arial\,sans-serif\;"><span style="font-size:10.0pt\;">Sports Council Booth or display </span></span><br />\n&nbsp\;<br />\n<span style="font-family:symbol\;"><span style="font-size:10.0pt\;">&middot\;&nbsp\;&nbsp\;&nbsp\;&nbsp\;&nbsp\;&nbsp\;&nbsp\;&nbsp\; </span></span><span style="font-family:arial\,sans-serif\;"><span style="font-size:10.0pt\;">Hand out fitness awards</span></span><br />\n&nbsp\;<br />\n<span style="font-family:arial\,sans-serif\;"><span style="font-size:14.0pt\;">Guest Athletes</span></span><br />\n&nbsp\;<br />\n<strong><span style="font-family:arial\,sans-serif\;"><span style="font-size:10.0pt\;">Jordan Larson &ndash\; Husker and U.S. National VB team </span></span></strong><br />\n<strong><span style="font-family:arial\,sans-serif\;"><span style="font-size:10.0pt\;">Curt Tomasevicz&nbsp\;- Former Husker Football &amp\; 2010 Winter Olympic Gold Medal Winner</span></span></strong><br />\n&nbsp\;<br />\n<span style="font-family:symbol\;"><span style="font-size:10.0pt\;">&middot\;&nbsp\;&nbsp\;&nbsp\;&nbsp\;&nbsp\;&nbsp\;&nbsp\;&nbsp\; </span></span><span style="font-family:arial\,sans-serif\;"><span style="font-size:10.0pt\;">Will do meet &amp\; greets at each stop </span></span><br />\n&nbsp\;<br />\n<span style="font-family:symbol\;"><span style="font-size:10.0pt\;">&middot\;&nbsp\;&nbsp\;&nbsp\;&nbsp\;&nbsp\;&nbsp\;&nbsp\;&nbsp\; </span></span><span style="font-family:arial\,sans-serif\;"><span style="font-size:10.0pt\;">Talk about fitness and hand out awards on stage</span></span><br />\n&nbsp\;<br />\n<span style="font-family:symbol\;"><span style="font-size:10.0pt\;">&middot\;&nbsp\;&nbsp\;&nbsp\;&nbsp\;&nbsp\;&nbsp\;&nbsp\;&nbsp\; </span></span><span style="font-family:arial\,sans-serif\;"><span style="font-size:10.0pt\;">Host VB clinic/ healthy fitness camp </span></span><br />\n&nbsp\;<br />\n&nbsp\;<br />\n<span style="font-family:arial\,sans-serif\;"><span style="font-size:14.0pt\;">Exhibits -Local organizations and businesses </span></span><br />\n&nbsp\;<br />\n<span style="font-family:arial\,sans-serif\;"><span style="font-size:14.0pt\;">Outdoor Activities&nbsp\; - YMCA&nbsp\;</span></span><br />\n
LOCATION:Kearney Family YMCA
UID:e.1404.3189
SEQUENCE:3
DTSTAMP:20260424T102417Z
URL:https://chambermaster.kearneycoc.org/events/details/livewell-nebraska-tour-06-26-2013-3189
END:VEVENT

END:VCALENDAR
