BEGIN:VCALENDAR
VERSION:2.0
PRODID:-//ChamberMaster//Event Calendar 2.0//EN
METHOD:PUBLISH
X-PUBLISHED-TTL:P3D
REFRESH-INTERVAL:P3D
CALSCALE:GREGORIAN
BEGIN:VEVENT
DTSTART:20140913T133000Z
DTEND:20140913T203000Z
X-MICROSOFT-CDO-ALLDAYEVENT:FALSE
SUMMARY:Living Proof Live with Beth Moore
DESCRIPTION:The inspired teaching of Beth Moore combined with the powerful music by Travis Cottrell make this annual live simulcast a day not to miss. Tickets on sale now at the Kearney eFree Church office.
X-ALT-DESC;FMTTYPE=text/html:The inspired teaching of Beth Moore combined with the powerful music by Travis Cottrell make this annual live simulcast a day not to miss. Tickets on sale now at the Kearney eFree Church office.
LOCATION:Kearney eFree Church 4010 7th Ave. Kearney\, NE 68836
UID:e.1404.5314
SEQUENCE:3
DTSTAMP:20260423T083655Z
URL:https://chambermaster.kearneycoc.org/events/details/living-proof-live-with-beth-moore-09-13-2014-5314
END:VEVENT

END:VCALENDAR
