BEGIN:VCALENDAR
VERSION:2.0
PRODID:-//ChamberMaster//Event Calendar 2.0//EN
METHOD:PUBLISH
X-PUBLISHED-TTL:P3D
REFRESH-INTERVAL:P3D
CALSCALE:GREGORIAN
BEGIN:VEVENT
DTSTART:20200902T160000Z
DTEND:20200902T180000Z
X-MICROSOFT-CDO-ALLDAYEVENT:FALSE
SUMMARY:Look Up & Look Out for Power Lines Harvest Safety Tour
DESCRIPTION:We hope you can make it to the Look Up & Look Out for Power Lines Harvest Safety Tour brought to you by NPPD\, Nebraska Extension\, AgHealth Central States\, Rural Radio Network and Dawson Public Power. \n\n\n\nBe the first to see the Look Up & Look Out Custom Combine! There will also be an ATV Safety Simulator\, Live Line Demos and Free Personal Protective Gear. Enter to win a Truck Tool Box. Enjoy a free BBQ Lunch provided by Mom & Dad's BBQ\, while they last!\n\n\n\n*Please respect social distancing. Wearing a face covering is encouraged. Local and CDC guidelines will be followed.
X-ALT-DESC;FMTTYPE=text/html:We hope you can make it to the Look Up &amp\; Look Out for Power Lines Harvest Safety Tour brought to you by NPPD\, Nebraska Extension\, AgHealth Central States\, Rural Radio Network and Dawson Public Power.&nbsp\;<br />\n<br />\nBe the first to see the Look Up &amp\; Look Out Custom Combine! There will also be an ATV Safety Simulator\, Live Line Demos and Free Personal Protective Gear. Enter to win a Truck Tool Box. Enjoy a free BBQ Lunch provided by Mom &amp\; Dad&#39\;s BBQ\, while they last!<br />\n<br />\n*Please respect social distancing. Wearing a face covering is encouraged. Local and CDC guidelines will be followed.&nbsp\;<br />\n<br />\n&nbsp\;
LOCATION:Nebraska Extension located at the Buffalo County Fairgrounds
UID:e.1404.18705
SEQUENCE:3
DTSTAMP:20260425T002607Z
URL:https://chambermaster.kearneycoc.org/events/details/look-up-look-out-for-power-lines-harvest-safety-tour-18705
END:VEVENT

END:VCALENDAR
