BEGIN:VCALENDAR
VERSION:2.0
PRODID:-//ChamberMaster//Event Calendar 2.0//EN
METHOD:PUBLISH
X-PUBLISHED-TTL:P3D
REFRESH-INTERVAL:P3D
CALSCALE:GREGORIAN
BEGIN:VEVENT
DTSTART:20190928T220000Z
DTEND:20190929T000000Z
X-MICROSOFT-CDO-ALLDAYEVENT:FALSE
SUMMARY:Loper Fan Fest
DESCRIPTION:Join us for a fun tailgating experience before every home Loper Football Game! Located in Loperville\, just outside of Cope Stadium\, open 2 hours before kick-off. *Must have a ticket to the home football game for entry.
X-ALT-DESC;FMTTYPE=text/html:<span style="color: rgb(51\, 51\, 51)\; font-family: sans-serif\, Arial\, Verdana\, &quot\;Trebuchet MS&quot\;\; font-size: 13px\; background-color: rgb(255\, 255\, 255)\;">Join us for a fun tailgating experience before every home Loper Football Game! Located in Loperville\, just outside of Cope Stadium\, open 2 hours before kick-off. *Must have a ticket to the home football game for entry.&nbsp\;</span>
LOCATION:
UID:e.1404.17846
SEQUENCE:3
DTSTAMP:20260425T194632Z
URL:https://chambermaster.kearneycoc.org/events/details/loper-fan-fest-17846
END:VEVENT

END:VCALENDAR
