BEGIN:VCALENDAR
VERSION:2.0
PRODID:-//ChamberMaster//Event Calendar 2.0//EN
METHOD:PUBLISH
X-PUBLISHED-TTL:P3D
REFRESH-INTERVAL:P3D
CALSCALE:GREGORIAN
BEGIN:VEVENT
DTSTART:20191102T150000Z
DTEND:20191102T170000Z
X-MICROSOFT-CDO-ALLDAYEVENT:FALSE
SUMMARY:Loper Fan Fest
DESCRIPTION:Join us for a fun tailgating experience before every home Loper Football Game! Located in Loperville\, just outside of Cope Stadium\, open 2 hours before kick-off. *Must have a ticket to the home football game for entry.
X-ALT-DESC;FMTTYPE=text/html:Join us for a fun tailgating experience before every home Loper Football Game! Located in Loperville\, just outside of Cope Stadium\, open 2 hours before kick-off. *Must have a ticket to the home football game for entry.&nbsp\;
LOCATION:
UID:e.1404.17858
SEQUENCE:3
DTSTAMP:20260425T163711Z
URL:https://chambermaster.kearneycoc.org/events/details/loper-fan-fest-17858
END:VEVENT

END:VCALENDAR
