BEGIN:VCALENDAR
VERSION:2.0
PRODID:-//ChamberMaster//Event Calendar 2.0//EN
METHOD:PUBLISH
X-PUBLISHED-TTL:P3D
REFRESH-INTERVAL:P3D
CALSCALE:GREGORIAN
BEGIN:VEVENT
DTSTART:20160331T164500Z
DTEND:20160331T180000Z
X-MICROSOFT-CDO-ALLDAYEVENT:FALSE
SUMMARY:Loper Luncheon
DESCRIPTION:Hear what is happening in the spring sports season from the UNK Coaches! Featured coaches will be Brett Mayo-Women's Golf\, Holly Carnes-Softball\, Wes Bernt-Men's Golf\, Damon Day-Baseball\, Brady Bonsall-Track & Field\, with special guest Dr. Hank Bounds\, President\, University of Nebraska.
X-ALT-DESC;FMTTYPE=text/html:Hear what is happening in the spring sports season from the UNK Coaches! Featured coaches will be Brett Mayo-Women&#39\;s Golf\, Holly Carnes-Softball\, Wes Bernt-Men&#39\;s Golf\, Damon Day-Baseball\, Brady Bonsall-Track &amp\; Field\, with special guest Dr. Hank Bounds\, President\, University of Nebraska.&nbsp\;
LOCATION:UNK Health & Sports Center\, Buckle Court
UID:e.1404.8571
SEQUENCE:3
DTSTAMP:20260422T012100Z
URL:https://chambermaster.kearneycoc.org/events/details/loper-luncheon-03-31-2016-8571
END:VEVENT

END:VCALENDAR
