BEGIN:VCALENDAR
VERSION:2.0
PRODID:-//ChamberMaster//Event Calendar 2.0//EN
METHOD:PUBLISH
X-PUBLISHED-TTL:P3D
REFRESH-INTERVAL:P3D
CALSCALE:GREGORIAN
BEGIN:VEVENT
DTSTART:20140828T164500Z
DTEND:20140828T180000Z
X-MICROSOFT-CDO-ALLDAYEVENT:FALSE
SUMMARY:Loper Luncheon
DESCRIPTION:UNK will be teaming up with the Kearney Area Chamber of Commerce and the Kearney Visitors Bureau to present this year's Kearney Fall Sports Preview\, which will be the kick-off event for the year.\n\n \n\nThe line-up features 12 fall sport coaches from Kearney High\, Kearney Catholic and UNK. The cost of admission is $ 6.00 per person and attendees will receive a lunch sponsored by Runza. The $ 6.00 cost will be the same for the rest of the year.
X-ALT-DESC;FMTTYPE=text/html:<span style="font-family: arial\; font-size: 12px\; line-height: 18px\; background-color: rgb(255\, 255\, 255)\;">UNK will be teaming up with the Kearney Area Chamber of Commerce and the Kearney Visitors Bureau to present this year&#39\;s Kearney Fall Sports Preview\, which will be the kick-off event for the year.</span><br style="font-family: arial\; font-size: 12px\; line-height: 18px\; background-color: rgb(255\, 255\, 255)\;" />\n<span style="font-family: arial\; font-size: 12px\; line-height: 18px\; background-color: rgb(255\, 255\, 255)\;">&nbsp\;</span><br style="font-family: arial\; font-size: 12px\; line-height: 18px\; background-color: rgb(255\, 255\, 255)\;" />\n<span style="font-family: arial\; font-size: 12px\; line-height: 18px\; background-color: rgb(255\, 255\, 255)\;">The line-up features 12 fall sport coaches from Kearney High\, Kearney Catholic and UNK. The cost of admission is $ 6.00 per person and attendees will receive a lunch sponsored by Runza. The $ 6.00 cost will be the same for the rest of the year.</span><br style="font-family: arial\; font-size: 12px\; line-height: 18px\; background-color: rgb(255\, 255\, 255)\;" />\n<br style="font-family: arial\; font-size: 12px\; line-height: 18px\; background-color: rgb(255\, 255\, 255)\;" />\n&nbsp\;
LOCATION:East Concourse of the UNK Health & Sports Center.
UID:e.1404.5320
SEQUENCE:3
DTSTAMP:20260423T100024Z
URL:https://chambermaster.kearneycoc.org/events/details/loper-luncheon-08-28-2014-5320
END:VEVENT

END:VCALENDAR
