BEGIN:VCALENDAR
VERSION:2.0
PRODID:-//ChamberMaster//Event Calendar 2.0//EN
METHOD:PUBLISH
X-PUBLISHED-TTL:P3D
REFRESH-INTERVAL:P3D
CALSCALE:GREGORIAN
BEGIN:VEVENT
DTSTART:20161208T174500Z
DTEND:20161208T190000Z
X-MICROSOFT-CDO-ALLDAYEVENT:FALSE
SUMMARY:Loper Luncheon
DESCRIPTION:Features coaches and players from Kearney High\, Kearney Catholic and UNK.
X-ALT-DESC;FMTTYPE=text/html:Features coaches and players&nbsp\;from Kearney High\, Kearney Catholic and UNK.
LOCATION:UNK Health and Sports Center 2501 15th Ave\, Kearney\, NE 68849
UID:e.1404.9015
SEQUENCE:3
DTSTAMP:20260419T121219Z
URL:https://chambermaster.kearneycoc.org/events/details/loper-luncheon-12-01-2016-9015
END:VEVENT

END:VCALENDAR
