BEGIN:VCALENDAR
VERSION:2.0
PRODID:-//ChamberMaster//Event Calendar 2.0//EN
METHOD:PUBLISH
X-PUBLISHED-TTL:P3D
REFRESH-INTERVAL:P3D
CALSCALE:GREGORIAN
BEGIN:VEVENT
DTSTART:20160908T164500Z
DTEND:20160908T180000Z
X-MICROSOFT-CDO-ALLDAYEVENT:FALSE
SUMMARY:Loper Luncheon
DESCRIPTION:Features coaches and players from Kearney High\, Kearney Catholic and UNK.
X-ALT-DESC;FMTTYPE=text/html:Features coaches and players&nbsp\;from Kearney High\, Kearney Catholic and UNK.
LOCATION:UNK Health and Sports Center 2501 15th Ave\, Kearney\, NE 68849
UID:e.1404.9009
SEQUENCE:3
DTSTAMP:20260421T165900Z
URL:https://chambermaster.kearneycoc.org/events/details/loper-luncheon-9009
END:VEVENT

END:VCALENDAR
