BEGIN:VCALENDAR
VERSION:2.0
PRODID:-//ChamberMaster//Event Calendar 2.0//EN
METHOD:PUBLISH
X-PUBLISHED-TTL:P3D
REFRESH-INTERVAL:P3D
CALSCALE:GREGORIAN
BEGIN:VEVENT
DTSTART:20220721T170000Z
DTEND:20220721T190000Z
X-MICROSOFT-CDO-ALLDAYEVENT:FALSE
SUMMARY:Lunch and Learn - Autism in the Workplace
DESCRIPTION:Join us for a lunch and learn opportunity to learn more about Autism in the workplace. This is for employers\, human resource professionals\, company leaders\, and direct supervisors\, interested in advancing diversity and inclusion efforts in their workplace.
X-ALT-DESC;FMTTYPE=text/html:Join us for a lunch and learn opportunity to learn more about Autism in the workplace. This is for employers\, human resource professionals\, company leaders\, and direct supervisors\, interested in advancing diversity and inclusion efforts in their workplace.&nbsp\;
LOCATION:Cunningham's on the Lake 610 Talmadge Street Kearney\, NE 68845
UID:e.1404.19751
SEQUENCE:3
DTSTAMP:20260421T133008Z
URL:https://chambermaster.kearneycoc.org/events/details/lunch-and-learn-autism-in-the-workplace-19751
END:VEVENT

END:VCALENDAR
