BEGIN:VCALENDAR
VERSION:2.0
PRODID:-//ChamberMaster//Event Calendar 2.0//EN
METHOD:PUBLISH
X-PUBLISHED-TTL:P3D
REFRESH-INTERVAL:P3D
CALSCALE:GREGORIAN
BEGIN:VEVENT
DTSTART:20130711T170000Z
DTEND:20130711T180000Z
X-MICROSOFT-CDO-ALLDAYEVENT:FALSE
SUMMARY:Lunch and Learn - Hands on Session for Apple Products
DESCRIPTION:Hands on Q & A Session for Apple Products\n\n\n\nJuly 11\, 2013\n\nNoon-1:00pm\n\nKearney Chamber\n\nCost: $15.00\n\nLunch is provided \n\n\n\nPresented By:  Josh Schuman\; Computer Hardware\n\n\n\nWhether you just purchased a new iPhone/iPad or are looking to learn more about the products you already have\, our Apple Certified employee will provide a brief overview of Apple's products followed by a Q&A session.  Bring your products to the lunch and learn for one on one help!\n\n\n\nTo reserve your seat contact Leslie Means at lmeans@kearneycoc.org or call the chamber at (308) 237-3101.
X-ALT-DESC;FMTTYPE=text/html:<table align="center" border="0" cellpadding="3" cellspacing="3" style="color: rgb(0\, 51\, 102)\; font-family: Helvetica\, Arial\, sans-serif\; font-weight: bold\; text-align: center\;" width="1026">\n	<tbody>\n		<tr>\n			<td align="left" scope="col" style="vertical-align: top\; padding-top: 10px\;" valign="top" width="624">\n				<div id="dnn_ContentPane" style="vertical-align: top\;">\n					&nbsp\;</div>\n			</td>\n			<td align="left" scope="col" style="vertical-align: top\;" valign="top" width="201">\n				&nbsp\;</td>\n		</tr>\n	</tbody>\n</table>\n<strong><span style="font-family:times new roman\,serif\;"><span style="font-size:13.5pt\;">Hands on Q &amp\; A Session for Apple Products</span></span></strong><br />\n<br />\n<span style="font-family:times new roman\,serif\;"><span style="font-size:12.0pt\;">July 11\, 2013<br />\nNoon-1:00pm<br />\nKearney Chamber<br />\nCost: $15.00<br />\nLunch is provided&nbsp\;<br />\n<br />\nPresented By: &nbsp\;Josh&nbsp\;Schuman\; Computer Hardware</span></span><br />\n<br />\n<span style="font-family:times new roman\,serif\;"><span style="font-size:12.0pt\;">Whether you just purchased a new iPhone/iPad or are looking to learn more about the products you already have\, our Apple Certified employee will provide a brief overview of Apple&#39\;s products followed by a Q&amp\;A session. &nbsp\;Bring your products to the lunch and learn for one on one help!</span></span><br />\n<br />\n<span style="font-family:times new roman\,serif\;"><span style="font-size:12.0pt\;">To reserve your seat contact Leslie Means at lmeans@kearneycoc.org or call the chamber at (308) 237-3101. &nbsp\;</span></span><br />\n
LOCATION:
UID:e.1404.3234
SEQUENCE:3
DTSTAMP:20260424T081412Z
URL:https://chambermaster.kearneycoc.org/events/details/lunch-and-learn-hands-on-session-for-apple-products-07-11-2013-3234
END:VEVENT

END:VCALENDAR
