BEGIN:VCALENDAR
VERSION:2.0
PRODID:-//ChamberMaster//Event Calendar 2.0//EN
METHOD:PUBLISH
X-PUBLISHED-TTL:P3D
REFRESH-INTERVAL:P3D
CALSCALE:GREGORIAN
BEGIN:VEVENT
DTSTART:20131001T153000Z
DTEND:20131001T170000Z
X-MICROSOFT-CDO-ALLDAYEVENT:FALSE
SUMMARY:Magellan Behavioral Health of Nebraska Member Forum
DESCRIPTION:Magellan and the state of Nebraska have launched a new partnership.  The goal is to improve behavioral health care services for Nebraskans. \n\n\n\nIn-person meetings will help members and families understand their services.   The forums will explain how to get care. \n\n\n\nAgenda topics and materials include:\n\nNew member handbook\n\nMember rights and responsibilites\n\nAdvanced directives\n\nPassport to Care\n\nFast Facts\n\nHealth education\n\nQuestions and answers
X-ALT-DESC;FMTTYPE=text/html:Magellan and the state of Nebraska have launched a new partnership.&nbsp\; The goal is to improve behavioral health care services for Nebraskans.&nbsp\;<br />\n<br />\nIn-person meetings will help members and families understand their services.&nbsp\;&nbsp\; The forums will explain how to get care.&nbsp\;<br />\n<br />\nAgenda topics and materials include:<br />\nNew member handbook<br />\nMember rights and responsibilites<br />\nAdvanced directives<br />\nPassport to Care<br />\nFast Facts<br />\nHealth education<br />\nQuestions and answers
LOCATION:Richard Young Hospital Board Room 1755 Prairie View Place Kearney\, NE 68845
UID:e.1404.3311
SEQUENCE:3
DTSTAMP:20260424T021015Z
URL:https://chambermaster.kearneycoc.org/events/details/magellan-behavioral-health-of-nebraska-member-forum-10-01-2013-3311
END:VEVENT

END:VCALENDAR
