BEGIN:VCALENDAR
VERSION:2.0
PRODID:-//ChamberMaster//Event Calendar 2.0//EN
METHOD:PUBLISH
X-PUBLISHED-TTL:P3D
REFRESH-INTERVAL:P3D
CALSCALE:GREGORIAN
BEGIN:VEVENT
DTSTART:20140925T133000Z
DTEND:20140925T150000Z
X-MICROSOFT-CDO-ALLDAYEVENT:FALSE
SUMMARY:Main Street Entrepreneur Workshop
DESCRIPTION:This workshop will feature resources for prospective\, existing and expanding businesses.  We will have speakers from at least six State Agencies that will share resources tailored to the attending businesses.
X-ALT-DESC;FMTTYPE=text/html:<strong>This workshop will feature resources for prospective\, existing and expanding businesses.&nbsp\; We will have speakers from at least six State Agencies that will share resources tailored to the attending businesses.&nbsp\;</strong>
LOCATION:Masonic Temple 4th floor meeting room (above World Theatre).
UID:e.1404.5346
SEQUENCE:3
DTSTAMP:20260423T083446Z
URL:https://chambermaster.kearneycoc.org/events/details/main-street-entrepreneur-workshop-09-25-2014-5346
END:VEVENT

END:VCALENDAR
