BEGIN:VCALENDAR
VERSION:2.0
PRODID:-//ChamberMaster//Event Calendar 2.0//EN
METHOD:PUBLISH
X-PUBLISHED-TTL:P3D
REFRESH-INTERVAL:P3D
CALSCALE:GREGORIAN
BEGIN:VEVENT
DTSTART:20210819T220000Z
DTEND:20210820T013000Z
X-MICROSOFT-CDO-ALLDAYEVENT:FALSE
SUMMARY:Make-A-Wish Nebraska's Evening of Wishes Gala
DESCRIPTION:Join Make-A-Wish Nebraska on Thursday\, August 19 at the Younes Conference Center for our annual Evening of Wishes Gala presented by The Home Agency and the Jim and Sharri Baldonado Family. Dine\, mingle\, and most importantly\, help us grant life-changing wishes for children battling critical illnesses in Nebraska. For additional information and purchase tickets\, please call the Make-A-Wish office at 308-234-6612.
X-ALT-DESC;FMTTYPE=text/html:Join Make-A-Wish Nebraska on Thursday\, August 19 at the Younes Conference Center for our annual Evening of Wishes Gala presented by The Home Agency and the Jim and Sharri Baldonado Family. Dine\, mingle\, and most importantly\, help us grant life-changing wishes for children battling critical illnesses in Nebraska. For additional information and purchase tickets\, please call the Make-A-Wish office at 308-234-6612.
LOCATION:Younes Conference Center 416 Talmadge Road Kearney\, NE\, 68845
UID:e.1404.19328
SEQUENCE:3
DTSTAMP:20260424T060940Z
URL:https://chambermaster.kearneycoc.org/events/details/make-a-wish-nebraska-s-evening-of-wishes-gala-19328
END:VEVENT

END:VCALENDAR
