BEGIN:VCALENDAR
VERSION:2.0
PRODID:-//ChamberMaster//Event Calendar 2.0//EN
METHOD:PUBLISH
X-PUBLISHED-TTL:P3D
REFRESH-INTERVAL:P3D
CALSCALE:GREGORIAN
BEGIN:VEVENT
DTSTART:20140816T170000Z
DTEND:20140816T230000Z
X-MICROSOFT-CDO-ALLDAYEVENT:FALSE
SUMMARY:Make-A-Wish Roll-N-RIde
DESCRIPTION:The Roll-N-Ride is an Annual Poker run that Kearney Powersports organizes & hosts to raise funds for the Nebraska Chapter of the Make-A-Wish foundation. This event has grown each and every year from around 100 the first year to about 340 participants this year! Over $11\,500 was raised during 2013's Roll 'N Ride. It is amazing to participate in and equally amazing to see the support of all the riders and volunteers that come back year after year for this event. The route is approximately 160 to 200 miles each year. Participants register starting @ noon and leave from Kearney Powersports at approximately 1pm with a police escort. Each registrant gets a packet of information and a doorprize. A meal is served to all participants upon their return to Kearney Powersports. Raffle prizes are awarded after the meal at approximately 6 pm. Go to http://www.kearneypowersports.com/roll_n_ride.htm for more information
X-ALT-DESC;FMTTYPE=text/html:The Roll-N-Ride is an Annual Poker run that Kearney Powersports organizes &amp\; hosts to raise funds for the Nebraska Chapter of the Make-A-Wish foundation. This event has grown each and every year from around 100 the first year to about 340 participants this year! Over $11\,500 was raised during 2013&#39\;s Roll &#39\;N Ride. It is amazing to participate in and equally amazing to see the support of all the riders and volunteers that come back year after year for this event. The route is approximately 160 to 200 miles each year. Participants register starting @ noon and leave from Kearney Powersports at approximately 1pm with a police escort. Each registrant gets a packet of information and a doorprize. A meal is served to all participants upon their return to Kearney Powersports. Raffle prizes are awarded after the meal at approximately 6 pm. Go to http://www.kearneypowersports.com/roll_n_ride.htm for more information
LOCATION:Kearney Powersports
UID:e.1404.4670
SEQUENCE:3
DTSTAMP:20260423T100118Z
URL:https://chambermaster.kearneycoc.org/events/details/make-a-wish-roll-n-ride-08-16-2014-4670
END:VEVENT

END:VCALENDAR
