BEGIN:VCALENDAR
VERSION:2.0
PRODID:-//ChamberMaster//Event Calendar 2.0//EN
METHOD:PUBLISH
X-PUBLISHED-TTL:P3D
REFRESH-INTERVAL:P3D
CALSCALE:GREGORIAN
BEGIN:VEVENT
DTSTART:20190314T204500Z
DTEND:20190314T221500Z
X-MICROSOFT-CDO-ALLDAYEVENT:FALSE
SUMMARY:Make & Take Classes
DESCRIPTION:Join us for simple crafts you can display at home or give as a gift!\n\n \n\nLittles Class: Ages 3-5\, $5 per child\, 3:45-4:30pm\n\nTissue Paper Leprechaun\n\nSt. Patrick's Day Rainbow Decoration\n\nFairy Jars\n\n \n\nJuniors Class: Ages 6-11\, $10 per child\, 4:30-5:15pm\n\nTissue Paper Leprechaun\n\nIrish Blessing Sign\n\nShamrock Pillow\n\nFairy Jars\n\n \n\nShamrock cookies for a snack
X-ALT-DESC;FMTTYPE=text/html:<div><span style="color:rgb(9\, 16\, 30)\; font-size:14px">Join us for simple crafts you can display at home or give as a gift!</span></div>\n\n<div>&nbsp\;</div>\n\n<div><a href="http://r20.rs6.net/tn.jsp?f=001z6EBZA46Ok8HDNTLQpuFnEpEa134sMRUrA6_VcqH3wUXRXUYqlJzUL9MFK9dzpw3i5BeTGYZwFl9lK7288_XZPgwTJh9zxP-lgxzpdEtjQY7nhNQ-nsnDHMzZswf4ueT_xzA1WYH4XUWbJYC9ofNIiOIie7qUCDbroh3xZgFuQ3VU0bajWa0RM38xUZFpjm-YnhHjkkJ0E20AzerWC1JHg==&amp\;c=gnvOXs6DkY5fEIpqONng8InHHiexgidS96_pTLccyvOqKWrnNNLfjw==&amp\;ch=qWYZbSf4zA2YaxDhNaYNZtgUncSBl860cS7G71f7yfGmb4vOrkTAqQ==" style="color: rgb(54\, 97\, 189)\; font-size: 14px\;" target="_blank">Littles Class: Ages 3-5\, $5 per child</a>\, 3:45-4:30pm</div>\n\n<div><span style="font-size:14px">Tissue Paper Leprechaun</span></div>\n\n<div><span style="font-size:14px">St. Patrick&#39\;s Day Rainbow Decoration</span></div>\n\n<div><span style="font-size:14px">Fairy Jars</span></div>\n\n<div>&nbsp\;</div>\n\n<div><a href="http://r20.rs6.net/tn.jsp?f=001z6EBZA46Ok8HDNTLQpuFnEpEa134sMRUrA6_VcqH3wUXRXUYqlJzUL9MFK9dzpw3WmIskLxJ42hUbFq9pZ2Mvzyd1yu_HB8S6iE2a9el3DisPhhyzHF6nCrvnzLLndLiFsVKVGx0nzAXoqo7PtU1GgAk-q7_G8TPZl62xTiuEhkdOUHRJrp1DJqKEGKxmzVtUYgZrIy_6DfPOJGytuVRvg==&amp\;c=gnvOXs6DkY5fEIpqONng8InHHiexgidS96_pTLccyvOqKWrnNNLfjw==&amp\;ch=qWYZbSf4zA2YaxDhNaYNZtgUncSBl860cS7G71f7yfGmb4vOrkTAqQ==" style="color: rgb(54\, 97\, 189)\; font-size: 14px\;" target="_blank">Juniors Class: Ages 6-11\, $10 per child</a>\, 4:30-5:15pm</div>\n\n<div><span style="color:rgb(9\, 16\, 30)\; font-size:14px">Tissue Paper Leprechaun</span></div>\n\n<div><span style="color:rgb(9\, 16\, 30)\; font-size:14px">Irish Blessing Sign</span></div>\n\n<div><span style="color:rgb(9\, 16\, 30)\; font-size:14px">Shamrock Pillow</span></div>\n\n<div><span style="color:rgb(9\, 16\, 30)\; font-size:14px">Fairy Jars</span></div>\n\n<div>&nbsp\;</div>\n\n<div><span style="color:rgb(9\, 16\, 30)\; font-size:14px">Shamrock cookies for a snack</span></div>\n
LOCATION:Kearney Area Children's Museum The Alia Arram Memorial Building 5827 4th Ave\, Kearney\, NE 68845
UID:e.1404.15422
SEQUENCE:3
DTSTAMP:20260426T044227Z
URL:https://chambermaster.kearneycoc.org/events/details/make-take-classes-15422
END:VEVENT

END:VCALENDAR
