BEGIN:VCALENDAR
VERSION:2.0
PRODID:-//ChamberMaster//Event Calendar 2.0//EN
METHOD:PUBLISH
X-PUBLISHED-TTL:P3D
REFRESH-INTERVAL:P3D
CALSCALE:GREGORIAN
BEGIN:VEVENT
DTSTART:20210724T000000Z
DTEND:20210808T220000Z
X-MICROSOFT-CDO-ALLDAYEVENT:FALSE
SUMMARY:Mamma Mia!
DESCRIPTION:The story-telling magic of ABBA's timeless songs propels this enchanting tale of love\, laughter and friendship\, creating an unforgettable show. See why millions of people worldwide have fallen in love with this musical sensation that is sure to leave you dancing.
X-ALT-DESC;FMTTYPE=text/html:The story-telling magic of ABBA&rsquo\;s timeless songs propels this enchanting tale of love\, laughter and friendship\, creating an unforgettable show. See why millions of people worldwide have fallen in love with this musical sensation that is sure to leave you dancing.
LOCATION:Merryman Performing Arts Center
UID:e.1404.19262
SEQUENCE:3
DTSTAMP:20260424T035350Z
URL:https://chambermaster.kearneycoc.org/events/details/mamma-mia-19262
END:VEVENT

END:VCALENDAR
