BEGIN:VCALENDAR
VERSION:2.0
PRODID:-//ChamberMaster//Event Calendar 2.0//EN
METHOD:PUBLISH
X-PUBLISHED-TTL:P3D
REFRESH-INTERVAL:P3D
CALSCALE:GREGORIAN
BEGIN:VEVENT
DTSTART:20260505T230000Z
DTEND:20260506T010000Z
X-MICROSOFT-CDO-ALLDAYEVENT:FALSE
SUMMARY:Margaritas & Amigos Business After Hours
DESCRIPTION:Pinon Market Invites you to Margaritas & Amigos \n\nTuesday\, May 5th. at Pinon Market 527 East 25th Street \n\nCelebrarte Cinco De Mayo with us at Pinon Market
X-ALT-DESC;FMTTYPE=text/html:Pinon Market Invites you to Margaritas &amp\; Amigos&nbsp\;<br />\nTuesday\, May 5th. at Pinon Market 527 East 25th Street&nbsp\;<br />\nCelebrarte Cinco De Mayo with us at Pinon Market&nbsp\;<br />\n&nbsp\;
LOCATION:527 East 25th St Kearney NE 68847
UID:e.1404.26282
SEQUENCE:3
DTSTAMP:20260423T092403Z
URL:https://chambermaster.kearneycoc.org/events/details/margaritas-amigos-business-after-hours-26282
END:VEVENT

END:VCALENDAR
