BEGIN:VCALENDAR
VERSION:2.0
PRODID:-//ChamberMaster//Event Calendar 2.0//EN
METHOD:PUBLISH
X-PUBLISHED-TTL:P3D
REFRESH-INTERVAL:P3D
CALSCALE:GREGORIAN
BEGIN:VEVENT
DTSTART:20150422T130000Z
DTEND:20150422T220000Z
X-MICROSOFT-CDO-ALLDAYEVENT:FALSE
SUMMARY:MarkeTECH Conference
DESCRIPTION:The MarkeTECH conference on marketing and technology for small business owners and entrepreneurs will be held from 8:00 a.m. to 5:00 p.m. April 22nd at the Holiday Inn in Kearney\, Nebraska. The focus is on digital marketing\, eCommerce\, and technology. Conference attendees will hear from experts in the field and have a chance to use some of the new technologies.
X-ALT-DESC;FMTTYPE=text/html:The MarkeTECH conference on marketing and technology for small business owners and entrepreneurs will be held from 8:00 a.m. to 5:00 p.m. April 22nd at the Holiday Inn in Kearney\, Nebraska. The focus is on digital marketing\, eCommerce\, and technology. Conference attendees will hear from experts in the field and have a chance to use some of the new technologies.
LOCATION:Holiday Inn\, Kearney\, NE
UID:e.1404.6171
SEQUENCE:3
DTSTAMP:20260422T195314Z
URL:https://chambermaster.kearneycoc.org/events/details/marketech-conference-04-22-2015-6171
END:VEVENT

END:VCALENDAR
