BEGIN:VCALENDAR
VERSION:2.0
PRODID:-//ChamberMaster//Event Calendar 2.0//EN
METHOD:PUBLISH
X-PUBLISHED-TTL:P3D
REFRESH-INTERVAL:P3D
CALSCALE:GREGORIAN
BEGIN:VEVENT
DTSTART:20160426T123000Z
DTEND:20160427T210000Z
X-MICROSOFT-CDO-ALLDAYEVENT:FALSE
SUMMARY:MarkeTech Conference
DESCRIPTION:AIM/GROW Nebraska Present\n\nSuccess Starts Here!\n\nJoin us for the 2016 MarkeTECH Conference\n\n\n\nThe State of Nebraska is a hard working entrepreneurial state\, and that hard work pays off! At our 2016 MarkeTECH Conference we will feature speakers from many of our well-known successful businesses across the state. They will give us a look at the entrepreneur spirit and what it takes to be successful in today's digital landscape. \n\nWe will have 4 tracks that will focus on:\nTechnology\, Digital Marketing/Marketing\, Ecommerce and Branding\n\n\n\nKeynotes include:\n\n\n\nBrian Fanzo of isocialfanz.com: Brian is a live streaming change evangelist that will be telling us all about the live streaming app Periscope and how to use it for your business.  Brian is followed by thousands as a live streaming/change expert.  He speaks at some of the top social media conferences around the nation.  We are very excited to have him at MarkeTech.\n\n\n\nSteve Maly of Maly Marketing: Steve is the founder of a successful marketing company.  He will be talking to us about the best ways to communicate our brand stories.\n\n\n\nLydia Peirson of the Buckle: Lydia is the Director of Digital Marketing and CRM for the Buckle and she will talk about digital marketing and eCommerce.\n\n\n\nLinsey Knerl  of Knerl Family Media: Linsey is the owner of Knerl Family media.  She will give us insiders tips and tricks on scheduling our social media.\n\n\n\nDonald Everett Jr & Becky Perrett of Runza: If you are ready for some entrepreneurial inspiration we are excited to announce that closing out the conference will be President of Runza Restaurant Donald Everett Jr.\,  & Becky Perrett\, Director of Marketing for Runza they will tell the story of how a recipe and a dream became Runza  Restaurants.\n\n\n\nWe have over 30+ speakers and panels of experts.  This is two days of fun and learning you do not want to miss.\n\n\n\nSpace is very limited.\n\n\n\nLearn more or Register Now!
X-ALT-DESC;FMTTYPE=text/html:<span style="color:#000000\; font-size:xx-large"><strong><span style="font-size:14px">AIM/GROW Nebraska Present</span><br />\n<em>Success Starts Here!</em></strong></span><br />\n<span style="color:#000000"><span style="font-size:large">Join us for the 2016 MarkeTECH Conference</span></span>\n\n<p><br />\n<strong><span style="font-size:medium">T<strong>he State of Nebraska is a hard working entrepreneurial state\, and that hard work pays off! At our 2016 MarkeTECH Conference we will feature speakers from many of our well-known successful businesses across the state. They will give us a look at the entrepreneur spirit and what it takes to be successful in today&rsquo\;s digital landscape.</strong>&nbsp\;</span></strong></p>\n\n<p><strong><span style="font-size:medium">We will have 4 tracks that will focus on:</span></strong></p>\n<strong><span style="font-size:medium">Technology\, Digital Marketing/Marketing\, Ecommerce and Branding</span></strong><br />\n<br />\nKeynotes include:<br />\n<br />\n<span style="font-size:12px"><span style="font-family:arial"><span style="font-size:14px"><strong>Brian Fanzo of isocialfanz.com:</strong> Brian is a live streaming change evangelist that will be telling us all about the live streaming app Periscope and how to use it for your business.&nbsp\; Brian is followed by thousands as a live streaming/change expert.&nbsp\; He speaks at some of the top social media conferences around the nation.&nbsp\; We are very excited to have him at MarkeTech.<br />\n<br />\n<strong>Steve Maly of Maly Marketing:</strong> Steve is the founder of a successful marketing company.&nbsp\; He will be talking to us about the best ways to communicate our brand stories.<br />\n<br />\n<strong>Lydia Peirson of the Buckle:</strong> Lydia is the Director of Digital Marketing and CRM for the Buckle and she</span></span></span><span style="font-size:12px"><span style="font-family:arial"><span style="font-size:14px"> will talk about digital marketing and eCommerce.<br />\n<br />\n<strong>Linsey Knerl&nbsp\; of Knerl Family Media</strong>: Linsey is the owner of Knerl Family media.&nbsp\; She will give us insiders tips and tricks on scheduling our social media.<br />\n<br />\n<strong>Donald Everett Jr &amp\; Becky Perrett of Runza</strong>: If you are ready for some entrepreneurial inspiration we are excited to announce that closing out the conference will be President of Runza Restaurant Donald Everett Jr.\,&nbsp\; &amp\; Becky Perrett\, Director of Marketing for Runza they will tell the story of how a recipe and a dream became Runza&reg\; Restaurants.</span><br />\n<br />\n<span style="font-size:14px">We have over 30+ speakers and panels of experts.&nbsp\; This is two days of fun and learning you do not want to miss.</span><br />\n<br />\n<span style="font-size:14px">Space is very limited.<br />\n<br />\n<a href="http://marketechconference.org/">Learn more</a> or <a href="http://marketechconference.org/">Register Now! </a></span></span></span>
LOCATION:Holiday Inn Kearney\, NE
UID:e.1404.8554
SEQUENCE:3
DTSTAMP:20260422T012013Z
URL:https://chambermaster.kearneycoc.org/events/details/marketech-conference-04-26-2016-8554
END:VEVENT

END:VCALENDAR
