BEGIN:VCALENDAR
VERSION:2.0
PRODID:-//ChamberMaster//Event Calendar 2.0//EN
METHOD:PUBLISH
X-PUBLISHED-TTL:P3D
REFRESH-INTERVAL:P3D
CALSCALE:GREGORIAN
BEGIN:VEVENT
DTSTART:20141216T210000Z
DTEND:20141216T230000Z
X-MICROSOFT-CDO-ALLDAYEVENT:FALSE
SUMMARY:Marketing Strategies and Government Contracting
DESCRIPTION:The workshop will be presented by Doug Davis\, Contracting Consultant from Moline\, Illinois. During the workshop\, you will learn how to: *Shift marketing efforts into high gear and grow business through government contracting\; *Connect and communicate with the right decision makers\; *Find bidding opportunities that match your expertise\; and *Put together a successful bid package. The workshop is free\, but we do ask that you register to attend at: nbdc.unomaha.edu/events
X-ALT-DESC;FMTTYPE=text/html:The workshop will be presented by Doug Davis\, Contracting Consultant from Moline\, Illinois. During the workshop\, you will learn how to: *Shift marketing efforts into high gear and grow business through government contracting\; *Connect and communicate with the right decision makers\; *Find bidding opportunities that match your expertise\; and *Put together a successful bid package. The workshop is free\, but we do ask that you register to attend at: nbdc.unomaha.edu/events
LOCATION:University of Nebraska at Kearney Ockinga Center Auditorium 2505 20th Avenue\, Kearney\, NE
UID:e.1404.5422
SEQUENCE:3
DTSTAMP:20260423T034333Z
URL:https://chambermaster.kearneycoc.org/events/details/marketing-strategies-and-government-contracting-12-16-2014-5422
END:VEVENT

END:VCALENDAR
