BEGIN:VCALENDAR
VERSION:2.0
PRODID:-//ChamberMaster//Event Calendar 2.0//EN
METHOD:PUBLISH
X-PUBLISHED-TTL:P3D
REFRESH-INTERVAL:P3D
CALSCALE:GREGORIAN
BEGIN:VEVENT
DTSTART:20140501T133000Z
DTEND:20140501T143000Z
X-MICROSOFT-CDO-ALLDAYEVENT:FALSE
SUMMARY:Media 101 - How Your Business and the Media can Work Together!
DESCRIPTION:Thursday\, May 1\n\n	8:30 am - 9:30 am\n	Kearney Area Chamber of Commerce Board Room\n	1007 Second Ave\n	$15.00 for chamber members\, $20.00 for non-members\n	Please rsvp to Leslie Means  lmeans@kearneycoc.org  or register online here.\n	Breakfast is provided\n	Presented by:  NTV's Marylyn Barnett\, Jason Murphy - Hits 106 Program Manager and Mike Konz with the Kearney Hub. \n\n\nFind out how you can work together with the media to promote your business!  Get basic tips on how to answer interview questions\, send press releases and more.  Come with questions!  This will be a informal panel sessions with various members of the media.
X-ALT-DESC;FMTTYPE=text/html:Thursday\, May 1\n<ul>\n	<li>8:30 am - 9:30 am</li>\n	<li>Kearney Area Chamber of Commerce Board Room</li>\n	<li>1007 Second Ave</li>\n	<li>$15.00 for chamber members\, $20.00 for non-members</li>\n	<li>Please rsvp to Leslie Means&nbsp\;&nbsp\;<a href="mailto:lmeans@kearneycoc.org"><font color="#0066cc">lmeans@kearneycoc.org</font></a>&nbsp\; or register <a href="http://kearneycoc.chambermaster.com/events/details/chamber-youniversity-trainings-4467"><font color="#0066cc">online here.</font></a></li>\n	<li>Breakfast is provided</li>\n	<li>Presented by:&nbsp\;&nbsp\;NTV&#39\;s Marylyn Barnett\, Jason Murphy - Hits 106 Program Manager and Mike Konz with the Kearney Hub.&nbsp\;</li>\n</ul>\n\n<p>Find out how you can work together with the media to promote your business!&nbsp\; Get basic tips on how to answer interview questions\, send press releases and more.&nbsp\; Come with questions!&nbsp\; This will be a informal panel sessions with various members of the media.&nbsp\;</p>\n
LOCATION:Kearney Area Chamber of Commerce Board Room 1007 Second Ave
UID:e.1404.4467
SEQUENCE:3
DTSTAMP:20260423T152149Z
URL:https://chambermaster.kearneycoc.org/events/details/media-101-how-your-business-and-the-media-can-work-together-05-01-2014-4467
END:VEVENT

END:VCALENDAR
