BEGIN:VCALENDAR
VERSION:2.0
PRODID:-//ChamberMaster//Event Calendar 2.0//EN
METHOD:PUBLISH
X-PUBLISHED-TTL:P3D
REFRESH-INTERVAL:P3D
CALSCALE:GREGORIAN
BEGIN:VEVENT
DTSTART:20150908T180000Z
DTEND:20150908T200000Z
X-MICROSOFT-CDO-ALLDAYEVENT:FALSE
SUMMARY:Medicare.gov 4 U workshop
DESCRIPTION:Join us for a workshop on Medicare.gov. Topics to be covered include:  general site navigation  Medicare enrollment  Part D plan review and cost comparison  Extra help application and more These classes are free and open to people with Medicare\, those who will soon be eligible\, caregivers\, and professionals.
X-ALT-DESC;FMTTYPE=text/html:Join us for a workshop on Medicare.gov. Topics to be covered include: &nbsp\;general site navigation &nbsp\;Medicare enrollment &nbsp\;Part D plan review and cost comparison &nbsp\;Extra help application and more These classes are free and open to people with Medicare\, those who will soon be eligible\, caregivers\, and professionals.
LOCATION:Petersen Senior Activities Center and Kearney Public Library
UID:e.1404.6257
SEQUENCE:3
DTSTAMP:20260422T114533Z
URL:https://chambermaster.kearneycoc.org/events/details/medicare-gov-4-u-workshop-09-08-2015-6257
END:VEVENT

END:VCALENDAR
