BEGIN:VCALENDAR
VERSION:2.0
PRODID:-//ChamberMaster//Event Calendar 2.0//EN
METHOD:PUBLISH
X-PUBLISHED-TTL:P3D
REFRESH-INTERVAL:P3D
CALSCALE:GREGORIAN
BEGIN:VEVENT
DTSTART:20130311T220000Z
DTEND:20130312T000000Z
X-MICROSOFT-CDO-ALLDAYEVENT:FALSE
SUMMARY:Meet & Greet reception for new Chamber Director\, Marion McDermott
DESCRIPTION:The Kearney Area Chamber of Commerce invites you to a meet & greet reception for new Chamber Director Marion McDermott.  Join the Chamber staff for hors devours & refreshments as we usher in a new era of leadership for the Kearney Area Chamber of Commerce
X-ALT-DESC;FMTTYPE=text/html:The Kearney Area Chamber of Commerce invites you to a meet &amp\; greet reception for new Chamber Director Marion McDermott. &nbsp\;Join the Chamber staff for hors devours &amp\; refreshments as we usher in a new era of leadership for the Kearney Area Chamber of Commerce<br />\n<br />\n
LOCATION:The Kearney Chamber Board Room
UID:e.1404.2254
SEQUENCE:3
DTSTAMP:20260424T160041Z
URL:https://chambermaster.kearneycoc.org/events/details/meet-greet-reception-for-new-chamber-director-marion-mcdermott-03-11-2013-2254
END:VEVENT

END:VCALENDAR
