BEGIN:VCALENDAR
VERSION:2.0
PRODID:-//ChamberMaster//Event Calendar 2.0//EN
METHOD:PUBLISH
X-PUBLISHED-TTL:P3D
REFRESH-INTERVAL:P3D
CALSCALE:GREGORIAN
BEGIN:VEVENT
DTSTART:20160504T180000Z
DTEND:20160504T220000Z
X-MICROSOFT-CDO-ALLDAYEVENT:FALSE
SUMMARY:Member Appreciation Reception
DESCRIPTION:Stop by the Chamber office and enjoy refreshments\, prizes and networking! We want to show our appreciation in honor of you our member for National Small Business Week!
X-ALT-DESC;FMTTYPE=text/html:Stop by the Chamber office and enjoy refreshments\, prizes and networking! We want to show our appreciation in honor of you our member for National Small Business Week!
LOCATION:Kearney Area Chamber of Commerce 1007 2nd Avenue
UID:e.1404.8736
SEQUENCE:3
DTSTAMP:20260421T215504Z
URL:https://chambermaster.kearneycoc.org/events/details/member-appreciation-reception-05-04-2016-8736
END:VEVENT

END:VCALENDAR
