BEGIN:VCALENDAR
VERSION:2.0
PRODID:-//ChamberMaster//Event Calendar 2.0//EN
METHOD:PUBLISH
X-PUBLISHED-TTL:P3D
REFRESH-INTERVAL:P3D
CALSCALE:GREGORIAN
BEGIN:VEVENT
DTSTART:20140205T180000Z
DTEND:20140205T190000Z
X-MICROSOFT-CDO-ALLDAYEVENT:FALSE
SUMMARY:Member Orientation
DESCRIPTION:Join the Chamber staff for a member orientation.  Whether you're a brand new Chamber member\, or a long time member who is looking for a refresher on all the services we offer\, this is the perfect opportunity for you to see what the Chamber is all about
X-ALT-DESC;FMTTYPE=text/html:Join the Chamber staff for a member orientation. &nbsp\;Whether you&#39\;re a brand new Chamber member\, or a long time member who is looking for a refresher on all the services we offer\, this is the perfect opportunity for you to see what the Chamber is all about
LOCATION:***Location Change*** Kearney Public Library 2020 1st Ave Platte Room (2nd Floor)
UID:e.1404.3284
SEQUENCE:3
DTSTAMP:20260423T212551Z
URL:https://chambermaster.kearneycoc.org/events/details/member-orientation-02-05-2014-3284
END:VEVENT

END:VCALENDAR
