BEGIN:VCALENDAR
VERSION:2.0
PRODID:-//ChamberMaster//Event Calendar 2.0//EN
METHOD:PUBLISH
X-PUBLISHED-TTL:P3D
REFRESH-INTERVAL:P3D
CALSCALE:GREGORIAN
BEGIN:VEVENT
DTSTART:20150325T130000Z
DTEND:20150325T170000Z
X-MICROSOFT-CDO-ALLDAYEVENT:FALSE
SUMMARY:Membership 180 Meeting
DESCRIPTION:Membership Drive Campaign Meeting
X-ALT-DESC;FMTTYPE=text/html:Membership Drive Campaign Meeting
LOCATION:Holiday Inn 508 2nd Ave South
UID:e.1404.6003
SEQUENCE:3
DTSTAMP:20260422T225651Z
URL:https://chambermaster.kearneycoc.org/events/details/membership-180-meeting-03-25-2015-6003
END:VEVENT

END:VCALENDAR
