BEGIN:VCALENDAR
VERSION:2.0
PRODID:-//ChamberMaster//Event Calendar 2.0//EN
METHOD:PUBLISH
X-PUBLISHED-TTL:P3D
REFRESH-INTERVAL:P3D
CALSCALE:GREGORIAN
BEGIN:VEVENT
DTSTART:20140912T170000Z
DTEND:20140913T213000Z
X-MICROSOFT-CDO-ALLDAYEVENT:FALSE
SUMMARY:Midwest Family History Expo
DESCRIPTION:Come join us for 2 days of classes packed with research instruction\, technology instruction\, internet demos\, and so much more!  Notable presenters include Arlene Eakle\, PhD\, Holly T. Hansen\, James L. Tanner\, Ruby Coleman and Ruth Ellen Maness.  Local sponsor - Ft. Kearny Genealogical Society  Open to the public.
X-ALT-DESC;FMTTYPE=text/html:Come join us for 2 days of classes packed with research instruction\, technology instruction\, internet demos\, and so much more! &nbsp\;Notable presenters include Arlene Eakle\, PhD\, Holly T. Hansen\, James L. Tanner\, Ruby Coleman and Ruth Ellen Maness. &nbsp\;Local sponsor - Ft. Kearny Genealogical Society &nbsp\;Open to the public.
LOCATION:Holiday Inn Convention Center 110 South Second Avenue Kearney \, Nebraska 68848 308-237-5971
UID:e.1404.5302
SEQUENCE:3
DTSTAMP:20260423T083748Z
URL:https://chambermaster.kearneycoc.org/events/details/midwest-family-history-expo-09-12-2014-5302
END:VEVENT

END:VCALENDAR
